Workbook

Sheet ข้อมูลพื้นฐานนักเรียน
A1: ข้อมูลนักเรียน | K1: (หน้าที่ 1)
A2: โรงเรียน | C2: จารุศรบำรุง
A3: ชั้นประถมศึกษาที่ | C3: 2/1
A4: ภาคเรียนที่ | C4: 1
A5: ปีการศึกษา | C5: 2568
A7: ข้อมูลนักเรียน
A8: เลขที่ | B8: คำนำหน้า | C8: ชื่อ | D8: นามสกุล
A9: 1 | B9: เด็กชาย | C9: ภาคภูมิ | D9: สิงห์สา
A10: 2 | B10: เด็กชาย | C10: จิรกร | D10: คำประสงค์
A11: 3 | B11: เด็กชาย | C11: กันฑ์ภวัต | D11: กำจัดภัย
A12: 4 | B12: เด็กชาย | C12: สินอนันต์ | D12: ชินคำ
A13: 5 | B13: เด็กชาย | C13: ชนัดพล | D13: ปิ่นนาค
A14: 6 | B14: เด็กชาย | C14: ชัยภัทร | D14: ม่วงศรี
A15: 7 | B15: เด็กชาย | C15: ทศมล | D15: ทิพพาวัน
A16: 8 | B16: เด็กชาย | C16: ธนกฤต | D16: รุ่งเรือง
A17: 9 | B17: เด็กชาย | C17: เตชินท์ | D17: สมบัติวงค์
A18: 10 | B18: เด็กหญิง | C18: สุจิณณา | D18: ดีพร้อม
A19: 11 | B19: เด็กหญิง | C19: ชนัญธิดา | D19: สุวรรณวงค์
A20: 12 | B20: เด็กหญิง | C20: กชพร | D20: สมนาค
... A38: 30 | B38: เด็กหญิง | C38: ณัฐภัทร | D38: นาคเหนือ
A39: 31
A40: 32
A41: 33
A42: 34
A43: 35
A44: 36
A45: 37
A46: 38
A47: 39
A48: 40
A49: 41
A50: 42
... A58: 50

Sheet เดือน พ.ค. 
N1: บันทึกการดื่มนมและแปรงฟัน
K2: ประจำเดือน | P2: พฤษภาคม | T2: พ.ศ. | W2: =AB3 -> 2568
F3: ชั้นประถมศึกษาที่ | M3: =ข้อมูลพื้นฐานนักเรียน!$C$3 -> 2/1 | O3: ภาคการเรียนที่ | U3: =ข้อมูลพื้นฐานนักเรียน!$C$4 -> 1 | W3: ปีการศึกษา | AB3: =ข้อมูลพื้นฐานนักเรียน!$C$5 -> 2568
L4: โรงเรียน | P4: =ข้อมูลพื้นฐานนักเรียน!$C$2 -> จารุศรบำรุง
A5: เลขที่ | B5: ชื่อ-สกุล | E5: วันที่ | AJ5: รวม
E6: 1 | F6: 2 | G6: 3 | H6: 4 | I6: 5 | J6: 6 | K6: 7 | L6: 8 | M6: 9 | N6: 10 | O6: 11 | P6: 12 | Q6: 13 | R6: 14 | S6: 15 | T6: 16 | U6: 17 | V6: 18 | W6: 19 | X6: 20 | Y6: 21 | Z6: 22 | AA6: 23 | AB6: 24 | AC6: 25 | AD6: 26 | AE6: 27 | AF6: 28 | AG6: 29 | AH6: 30 | AI6: 31 | AJ6: ดื่มและแปรงฟัน | AK6: ไม่ดื่มและไม่แปรงฟัน
A7: =ข้อมูลพื้นฐานนักเรียน!A9 -> 1 | B7: =ข้อมูลพื้นฐานนักเรียน!B9 -> เด็กชาย | C7: =ข้อมูลพื้นฐานนักเรียน!C9 -> ภาคภูมิ | D7: =ข้อมูลพื้นฐานนักเรียน!D9 -> สิงห์สา | E7: วันแรงงานแห่งชาต | H7: วันฉัตรมงคล | I7: วันหยุดชดเชยวันฉัตรมงคล | M7: วันพืชมงคล | O7: วันวิสาขบูชา | P7: วันหยุดชดเชยวันวิสาขบูชา | T7: / | W7: / | X7: / | Y7: / | Z7: / | AA7: / | AD7: / | AE7: / | AF7: / | AG7: / | AH7: / | AJ7: =COUNTIF(E7:AI7,"/") -> 11 | AK7: =COUNTIF(E7:AI7,"x") -> 0
A8: =ข้อมูลพื้นฐานนักเรียน!A10 -> 2 | B8: =ข้อมูลพื้นฐานนักเรียน!B10 -> เด็กชาย | C8: =ข้อมูลพื้นฐานนักเรียน!C10 -> จิรกร | D8: =ข้อมูลพื้นฐานนักเรียน!D10 -> คำประสงค์ | T8: / | W8: / | X8: / | Y8: / | Z8: / | AA8: / | AD8: / | AE8: / | AF8: / | AG8: / | AH8: / | AJ8: =COUNTIF(E8:AI8,"/") -> 11 | AK8: =COUNTIF(E8:AI8,"x") -> 0
A9: =ข้อมูลพื้นฐานนักเรียน!A11 -> 3 | B9: =ข้อมูลพื้นฐานนักเรียน!B11 -> เด็กชาย | C9: =ข้อมูลพื้นฐานนักเรียน!C11 -> กันฑ์ภวัต | D9: =ข้อมูลพื้นฐานนักเรียน!D11 -> กำจัดภัย | T9: / | W9: / | X9: / | Y9: / | Z9: / | AA9: / | AD9: / | AE9: / | AF9: / | AG9: / | AH9: / | AJ9: =COUNTIF(E9:AI9,"/") -> 11 | AK9: =COUNTIF(E9:AI9,"x") -> 0
A10: =ข้อมูลพื้นฐานนักเรียน!A12 -> 4 | B10: =ข้อมูลพื้นฐานนักเรียน!B12 -> เด็กชาย | C10: =ข้อมูลพื้นฐานนักเรียน!C12 -> สินอนันต์ | D10: =ข้อมูลพื้นฐานนักเรียน!D12 -> ชินคำ | T10: / | W10: / | X10: / | Y10: / | Z10: / | AA10: / | AD10: / | AE10: / | AF10: / | AG10: / | AH10: / | AJ10: =COUNTIF(E10:AI10,"/") -> 11 | AK10: =COUNTIF(E10:AI10,"x") -> 0
A11: =ข้อมูลพื้นฐานนักเรียน!A13 -> 5 | B11: =ข้อมูลพื้นฐานนักเรียน!B13 -> เด็กชาย | C11: =ข้อมูลพื้นฐานนักเรียน!C13 -> ชนัดพล | D11: =ข้อมูลพื้นฐานนักเรียน!D13 -> ปิ่นนาค | T11: / | W11: / | X11: / | Y11: / | Z11: / | AA11: / | AD11: / | AE11: / | AF11: / | AG11: / | AH11: / | AJ11: =COUNTIF(E11:AI11,"/") -> 11 | AK11: =COUNTIF(E11:AI11,"x") -> 0
A12: =ข้อมูลพื้นฐานนักเรียน!A14 -> 6 | B12: =ข้อมูลพื้นฐานนักเรียน!B14 -> เด็กชาย | C12: =ข้อมูลพื้นฐานนักเรียน!C14 -> ชัยภัทร | D12: =ข้อมูลพื้นฐานนักเรียน!D14 -> ม่วงศรี | T12: / | W12: / | X12: / | Y12: / | Z12: / | AA12: / | AD12: / | AE12: / | AF12: / | AG12: / | AH12: / | AJ12: =COUNTIF(E12:AI12,"/") -> 11 | AK12: =COUNTIF(E12:AI12,"x") -> 0
A13: =ข้อมูลพื้นฐานนักเรียน!A15 -> 7 | B13: =ข้อมูลพื้นฐานนักเรียน!B15 -> เด็กชาย | C13: =ข้อมูลพื้นฐานนักเรียน!C15 -> ทศมล | D13: =ข้อมูลพื้นฐานนักเรียน!D15 -> ทิพพาวัน | T13: / | W13: / | X13: / | Y13: / | Z13: / | AA13: / | AD13: / | AE13: / | AF13: / | AG13: / | AH13: / | AJ13: =COUNTIF(E13:AI13,"/") -> 11 | AK13: =COUNTIF(E13:AI13,"x") -> 0
A14: =ข้อมูลพื้นฐานนักเรียน!A16 -> 8 | B14: =ข้อมูลพื้นฐานนักเรียน!B16 -> เด็กชาย | C14: =ข้อมูลพื้นฐานนักเรียน!C16 -> ธนกฤต | D14: =ข้อมูลพื้นฐานนักเรียน!D16 -> รุ่งเรือง | T14: / | W14: / | X14: / | Y14: / | Z14: / | AA14: / | AD14: / | AE14: / | AF14: / | AG14: / | AH14: / | AJ14: =COUNTIF(E14:AI14,"/") -> 11 | AK14: =COUNTIF(E14:AI14,"x") -> 0
A15: =ข้อมูลพื้นฐานนักเรียน!A17 -> 9 | B15: =ข้อมูลพื้นฐานนักเรียน!B17 -> เด็กชาย | C15: =ข้อมูลพื้นฐานนักเรียน!C17 -> เตชินท์ | D15: =ข้อมูลพื้นฐานนักเรียน!D17 -> สมบัติวงค์ | T15: / | W15: / | X15: / | Y15: / | Z15: / | AA15: / | AD15: / | AE15: / | AF15: / | AG15: / | AH15: / | AJ15: =COUNTIF(E15:AI15,"/") -> 11 | AK15: =COUNTIF(E15:AI15,"x") -> 0
A16: =ข้อมูลพื้นฐานนักเรียน!A18 -> 10 | B16: =ข้อมูลพื้นฐานนักเรียน!B18 -> เด็กหญิง | C16: =ข้อมูลพื้นฐานนักเรียน!C18 -> สุจิณณา | D16: =ข้อมูลพื้นฐานนักเรียน!D18 -> ดีพร้อม | T16: / | W16: / | X16: / | Y16: / | Z16: / | AA16: / | AD16: / | AE16: / | AF16: / | AG16: / | AH16: / | AJ16: =COUNTIF(E16:AI16,"/") -> 11 | AK16: =COUNTIF(E16:AI16,"x") -> 0
A17: =ข้อมูลพื้นฐานนักเรียน!A19 -> 11 | B17: =ข้อมูลพื้นฐานนักเรียน!B19 -> เด็กหญิง | C17: =ข้อมูลพื้นฐานนักเรียน!C19 -> ชนัญธิดา | D17: =ข้อมูลพื้นฐานนักเรียน!D19 -> สุวรรณวงค์ | T17: / | W17: / | X17: / | Y17: / | Z17: / | AA17: / | AD17: / | AE17: / | AF17: / | AG17: / | AH17: / | AJ17: =COUNTIF(E17:AI17,"/") -> 11 | AK17: =COUNTIF(E17:AI17,"x") -> 0
A18: =ข้อมูลพื้นฐานนักเรียน!A20 -> 12 | B18: =ข้อมูลพื้นฐานนักเรียน!B20 -> เด็กหญิง | C18: =ข้อมูลพื้นฐานนักเรียน!C20 -> กชพร | D18: =ข้อมูลพื้นฐานนักเรียน!D20 -> สมนาค | T18: / | W18: / | X18: / | Y18: / | Z18: / | AA18: / | AD18: / | AE18: / | AF18: / | AG18: / | AH18: / | AJ18: =COUNTIF(E18:AI18,"/") -> 11 | AK18: =COUNTIF(E18:AI18,"x") -> 0
A19: =ข้อมูลพื้นฐานนักเรียน!A21 -> 13 | B19: =ข้อมูลพื้นฐานนักเรียน!B21 -> เด็กหญิง | C19: =ข้อมูลพื้นฐานนักเรียน!C21 -> จิรัญญา | D19: =ข้อมูลพื้นฐานนักเรียน!D21 -> เกลี้ยงพร้อม | T19: / | W19: / | X19: / | Y19: / | Z19: / | AA19: / | AD19: / | AE19: / | AF19: / | AG19: / | AH19: / | AJ19: =COUNTIF(E19:AI19,"/") -> 11 | AK19: =COUNTIF(E19:AI19,"x") -> 0
... A36: =ข้อมูลพื้นฐานนักเรียน!A38 -> 30 | B36: =ข้อมูลพื้นฐานนักเรียน!B38 -> เด็กหญิง | C36: =ข้อมูลพื้นฐานนักเรียน!C38 -> ณัฐภัทร | D36: =ข้อมูลพื้นฐานนักเรียน!D38 -> นาคเหนือ | T36: / | W36: / | X36: / | Y36: / | Z36: / | AA36: / | AD36: / | AE36: / | AF36: / | AG36: / | AH36: / | AJ36: =COUNTIF(E36:AI36,"/") -> 11 | AK36: =COUNTIF(E36:AI36,"x") -> 0
A37: =ข้อมูลพื้นฐานนักเรียน!A39 -> 31
A38: =ข้อมูลพื้นฐานนักเรียน!A40 -> 32
A39: =ข้อมูลพื้นฐานนักเรียน!A41 -> 33
A40: =ข้อมูลพื้นฐานนักเรียน!A42 -> 34
A41: =ข้อมูลพื้นฐานนักเรียน!A43 -> 35
A42: =ข้อมูลพื้นฐานนักเรียน!A44 -> 36
A43: =ข้อมูลพื้นฐานนักเรียน!A45 -> 37
A44: =ข้อมูลพื้นฐานนักเรียน!A46 -> 38
A45: =ข้อมูลพื้นฐานนักเรียน!A47 -> 39
A46: =ข้อมูลพื้นฐานนักเรียน!A48 -> 40
A47: =ข้อมูลพื้นฐานนักเรียน!A49 -> 41
A48: =ข้อมูลพื้นฐานนักเรียน!A50 -> 42
... A56: =ข้อมูลพื้นฐานนักเรียน!A58 -> 50
E58: ...................................................................... | X58: .......................................................
E59: ( ) | X59: (นางสุชาวดี สุทธิวานิช)
E60: ครูประจำชั้น | X60: ผู้อำนวยการโรงเรียน

Sheet เดือน มิ.ย.
N1: บันทึกการดื่มนมและแปรงฟัน
K2: ประจำเดือน | P2: มิถุนายน | T2: พ.ศ. | W2: =AB3 -> 2568
F3: ชั้นประถมศึกษาที่ | M3: =ข้อมูลพื้นฐานนักเรียน!$C$3 -> 2/1 | O3: ภาคการเรียนที่ | U3: =ข้อมูลพื้นฐานนักเรียน!$C$4 -> 1 | W3: ปีการศึกษา | AB3: =ข้อมูลพื้นฐานนักเรียน!$C$5 -> 2568
L4: โรงเรียน | P4: =ข้อมูลพื้นฐานนักเรียน!$C$2 -> จารุศรบำรุง
A6: เลขที่ | B6: ชื่อ-สกุล | E6: วันที่ | AI6: รวม
E7: 1 | F7: 2 | G7: 3 | H7: 4 | I7: 5 | J7: 6 | K7: 7 | L7: 8 | M7: 9 | N7: 10 | O7: 11 | P7: 12 | Q7: 13 | R7: 14 | S7: 15 | T7: 16 | U7: 17 | V7: 18 | W7: 19 | X7: 20 | Y7: 21 | Z7: 22 | AA7: 23 | AB7: 24 | AC7: 25 | AD7: 26 | AE7: 27 | AF7: 28 | AG7: 29 | AH7: 30 | AI7: ดื่มและแปรงฟัน | AJ7: ไม่ดื่มนมและไม่แปรงฟัน
A8: =ข้อมูลพื้นฐานนักเรียน!A9 -> 1 | B8: =ข้อมูลพื้นฐานนักเรียน!B9 -> เด็กชาย | C8: =ข้อมูลพื้นฐานนักเรียน!C9 -> ภาคภูมิ | D8: =ข้อมูลพื้นฐานนักเรียน!D9 -> สิงห์สา | F8: วันหยุดพิเศษเพิ่มเติม | G8: วันเฉลิมพระชนมพรรษา สมเด็จพระนางเจ้าฯ พระบรมราชินี | H8: / | I8: x | J8: x | M8: / | N8: / | O8: / | P8: / | Q8: / | T8: / | U8: / | V8: / | W8: x | X8: / | AA8: x | AB8: / | AC8: x | AD8: / | AE8: x | AH8: x | AI8: =COUNTIF(E8:AH8,"/") -> 12 | AJ8: =COUNTIF(E8:AH8,"x") -> 7
A9: =ข้อมูลพื้นฐานนักเรียน!A10 -> 2 | B9: =ข้อมูลพื้นฐานนักเรียน!B10 -> เด็กชาย | C9: =ข้อมูลพื้นฐานนักเรียน!C10 -> จิรกร | D9: =ข้อมูลพื้นฐานนักเรียน!D10 -> คำประสงค์ | H9: / | I9: / | J9: / | M9: / | N9: / | O9: / | P9: / | Q9: / | T9: / | U9: / | V9: / | W9: / | X9: / | AA9: / | AB9: / | AC9: / | AD9: / | AE9: / | AH9: / | AI9: =COUNTIF(E9:AH9,"/") -> 19 | AJ9: =COUNTIF(E9:AH9,"x") -> 0
A10: =ข้อมูลพื้นฐานนักเรียน!A11 -> 3 | B10: =ข้อมูลพื้นฐานนักเรียน!B11 -> เด็กชาย | C10: =ข้อมูลพื้นฐานนักเรียน!C11 -> กันฑ์ภวัต | D10: =ข้อมูลพื้นฐานนักเรียน!D11 -> กำจัดภัย | H10: / | I10: / | J10: / | M10: / | N10: / | O10: / | P10: / | Q10: / | T10: / | U10: / | V10: / | W10: / | X10: / | AA10: / | AB10: / | AC10: / | AD10: / | AE10: / | AH10: / | AI10: =COUNTIF(E10:AH10,"/") -> 19 | AJ10: =COUNTIF(E10:AH10,"x") -> 0
A11: =ข้อมูลพื้นฐานนักเรียน!A12 -> 4 | B11: =ข้อมูลพื้นฐานนักเรียน!B12 -> เด็กชาย | C11: =ข้อมูลพื้นฐานนักเรียน!C12 -> สินอนันต์ | D11: =ข้อมูลพื้นฐานนักเรียน!D12 -> ชินคำ | H11: / | I11: / | J11: / | M11: / | N11: / | O11: / | P11: / | Q11: / | T11: / | U11: / | V11: / | W11: / | X11: / | AA11: / | AB11: / | AC11: / | AD11: / | AE11: / | AH11: / | AI11: =COUNTIF(E11:AH11,"/") -> 19 | AJ11: =COUNTIF(E11:AH11,"x") -> 0
A12: =ข้อมูลพื้นฐานนักเรียน!A13 -> 5 | B12: =ข้อมูลพื้นฐานนักเรียน!B13 -> เด็กชาย | C12: =ข้อมูลพื้นฐานนักเรียน!C13 -> ชนัดพล | D12: =ข้อมูลพื้นฐานนักเรียน!D13 -> ปิ่นนาค | H12: / | I12: / | J12: / | M12: / | N12: / | O12: / | P12: / | Q12: / | T12: / | U12: / | V12: / | W12: / | X12: / | AA12: / | AB12: / | AC12: / | AD12: / | AE12: / | AH12: / | AI12: =COUNTIF(E12:AH12,"/") -> 19 | AJ12: =COUNTIF(E12:AH12,"x") -> 0
A13: =ข้อมูลพื้นฐานนักเรียน!A14 -> 6 | B13: =ข้อมูลพื้นฐานนักเรียน!B14 -> เด็กชาย | C13: =ข้อมูลพื้นฐานนักเรียน!C14 -> ชัยภัทร | D13: =ข้อมูลพื้นฐานนักเรียน!D14 -> ม่วงศรี | H13: / | I13: / | J13: / | M13: / | N13: / | O13: / | P13: / | Q13: / | T13: / | U13: / | V13: / | W13: / | X13: / | AA13: / | AB13: / | AC13: / | AD13: / | AE13: / | AH13: / | AI13: =COUNTIF(E13:AH13,"/") -> 19 | AJ13: =COUNTIF(E13:AH13,"x") -> 0
A14: =ข้อมูลพื้นฐานนักเรียน!A15 -> 7 | B14: =ข้อมูลพื้นฐานนักเรียน!B15 -> เด็กชาย | C14: =ข้อมูลพื้นฐานนักเรียน!C15 -> ทศมล | D14: =ข้อมูลพื้นฐานนักเรียน!D15 -> ทิพพาวัน | H14: / | I14: / | J14: / | M14: / | N14: / | O14: / | P14: / | Q14: / | T14: / | U14: / | V14: / | W14: / | X14: / | AA14: / | AB14: / | AC14: / | AD14: / | AE14: / | AH14: / | AI14: =COUNTIF(E14:AH14,"/") -> 19 | AJ14: =COUNTIF(E14:AH14,"x") -> 0
A15: =ข้อมูลพื้นฐานนักเรียน!A16 -> 8 | B15: =ข้อมูลพื้นฐานนักเรียน!B16 -> เด็กชาย | C15: =ข้อมูลพื้นฐานนักเรียน!C16 -> ธนกฤต | D15: =ข้อมูลพื้นฐานนักเรียน!D16 -> รุ่งเรือง | H15: / | I15: / | J15: / | M15: / | N15: / | O15: / | P15: / | Q15: / | T15: / | U15: / | V15: / | W15: / | X15: / | AA15: / | AB15: / | AC15: / | AD15: / | AE15: / | AH15: / | AI15: =COUNTIF(E15:AH15,"/") -> 19 | AJ15: =COUNTIF(E15:AH15,"x") -> 0
A16: =ข้อมูลพื้นฐานนักเรียน!A17 -> 9 | B16: =ข้อมูลพื้นฐานนักเรียน!B17 -> เด็กชาย | C16: =ข้อมูลพื้นฐานนักเรียน!C17 -> เตชินท์ | D16: =ข้อมูลพื้นฐานนักเรียน!D17 -> สมบัติวงค์ | H16: / | I16: / | J16: / | M16: / | N16: / | O16: / | P16: / | Q16: / | T16: / | U16: / | V16: / | W16: / | X16: / | AA16: / | AB16: / | AC16: / | AD16: / | AE16: / | AH16: / | AI16: =COUNTIF(E16:AH16,"/") -> 19 | AJ16: =COUNTIF(E16:AH16,"x") -> 0
A17: =ข้อมูลพื้นฐานนักเรียน!A18 -> 10 | B17: =ข้อมูลพื้นฐานนักเรียน!B18 -> เด็กหญิง | C17: =ข้อมูลพื้นฐานนักเรียน!C18 -> สุจิณณา | D17: =ข้อมูลพื้นฐานนักเรียน!D18 -> ดีพร้อม | H17: / | I17: / | J17: / | M17: / | N17: / | O17: / | P17: / | Q17: / | T17: / | U17: / | V17: / | W17: / | X17: / | AA17: / | AB17: / | AC17: / | AD17: / | AE17: / | AH17: / | AI17: =COUNTIF(E17:AH17,"/") -> 19 | AJ17: =COUNTIF(E17:AH17,"x") -> 0
A18: =ข้อมูลพื้นฐานนักเรียน!A19 -> 11 | B18: =ข้อมูลพื้นฐานนักเรียน!B19 -> เด็กหญิง | C18: =ข้อมูลพื้นฐานนักเรียน!C19 -> ชนัญธิดา | D18: =ข้อมูลพื้นฐานนักเรียน!D19 -> สุวรรณวงค์ | H18: / | I18: / | J18: / | M18: / | N18: / | O18: / | P18: / | Q18: / | T18: / | U18: / | V18: / | W18: / | X18: / | AA18: / | AB18: / | AC18: / | AD18: / | AE18: / | AH18: / | AI18: =COUNTIF(E18:AH18,"/") -> 19 | AJ18: =COUNTIF(E18:AH18,"x") -> 0
A19: =ข้อมูลพื้นฐานนักเรียน!A20 -> 12 | B19: =ข้อมูลพื้นฐานนักเรียน!B20 -> เด็กหญิง | C19: =ข้อมูลพื้นฐานนักเรียน!C20 -> กชพร | D19: =ข้อมูลพื้นฐานนักเรียน!D20 -> สมนาค | H19: / | I19: / | J19: / | M19: / | N19: / | O19: / | P19: / | Q19: / | T19: / | U19: / | V19: / | W19: / | X19: / | AA19: / | AB19: / | AC19: / | AD19: / | AE19: / | AH19: / | AI19: =COUNTIF(E19:AH19,"/") -> 19 | AJ19: =COUNTIF(E19:AH19,"x") -> 0
A20: =ข้อมูลพื้นฐานนักเรียน!A21 -> 13 | B20: =ข้อมูลพื้นฐานนักเรียน!B21 -> เด็กหญิง | C20: =ข้อมูลพื้นฐานนักเรียน!C21 -> จิรัญญา | D20: =ข้อมูลพื้นฐานนักเรียน!D21 -> เกลี้ยงพร้อม | H20: / | I20: / | J20: / | M20: / | N20: / | O20: / | P20: / | Q20: / | T20: / | U20: / | V20: / | W20: / | X20: / | AA20: / | AB20: / | AC20: / | AD20: / | AE20: / | AH20: / | AI20: =COUNTIF(E20:AH20,"/") -> 19 | AJ20: =COUNTIF(E20:AH20,"x") -> 0
... A37: =ข้อมูลพื้นฐานนักเรียน!A38 -> 30 | B37: =ข้อมูลพื้นฐานนักเรียน!B38 -> เด็กหญิง | C37: =ข้อมูลพื้นฐานนักเรียน!C38 -> ณัฐภัทร | D37: =ข้อมูลพื้นฐานนักเรียน!D38 -> นาคเหนือ | H37: / | I37: / | J37: / | M37: / | N37: / | O37: / | P37: / | Q37: / | T37: / | U37: / | V37: / | W37: / | X37: / | AA37: / | AB37: / | AC37: / | AD37: / | AE37: / | AH37: / | AI37: =COUNTIF(E37:AH37,"/") -> 19 | AJ37: =COUNTIF(E37:AH37,"x") -> 0
A38: =ข้อมูลพื้นฐานนักเรียน!A39 -> 31
A39: =ข้อมูลพื้นฐานนักเรียน!A40 -> 32
A40: =ข้อมูลพื้นฐานนักเรียน!A41 -> 33
A41: =ข้อมูลพื้นฐานนักเรียน!A42 -> 34
A42: =ข้อมูลพื้นฐานนักเรียน!A43 -> 35
A43: =ข้อมูลพื้นฐานนักเรียน!A44 -> 36
A44: =ข้อมูลพื้นฐานนักเรียน!A45 -> 37
A45: =ข้อมูลพื้นฐานนักเรียน!A46 -> 38
A46: =ข้อมูลพื้นฐานนักเรียน!A47 -> 39
A47: =ข้อมูลพื้นฐานนักเรียน!A48 -> 40
A48: =ข้อมูลพื้นฐานนักเรียน!A49 -> 41
A49: =ข้อมูลพื้นฐานนักเรียน!A50 -> 42
... A57: =ข้อมูลพื้นฐานนักเรียน!A58 -> 50
G59: ...................................................................... | Z59: .......................................................
G60: ( ) | Z60: (นางสุชาวดี สุทธิวานิช)
G61: ครูประจำชั้น | Z61: ผู้อำนวยการโรงเรียน

Sheet เดือน ก.ค. 
N1: บันทึกการดื่มนมและแปรงฟัน
K2: ประจำเดือน | P2: กรกฎาคม | T2: พ.ศ. | W2: =AB3 -> 2568
F3: ชั้นประถมศึกษาที่ | M3: =ข้อมูลพื้นฐานนักเรียน!$C$3 -> 2/1 | O3: ภาคการเรียนที่ | U3: =ข้อมูลพื้นฐานนักเรียน!$C$4 -> 1 | W3: ปีการศึกษา | AB3: =ข้อมูลพื้นฐานนักเรียน!$C$5 -> 2568
L4: โรงเรียน | P4: =ข้อมูลพื้นฐานนักเรียน!$C$2 -> จารุศรบำรุง
A5: เลขที่ | B5: ชื่อ-สกุล | E5: วันที่ | AJ5: รวม
E6: 1 | F6: 2 | G6: 3 | H6: 4 | I6: 5 | J6: 6 | K6: 7 | L6: 8 | M6: 9 | N6: 10 | O6: 11 | P6: 12 | Q6: 13 | R6: 14 | S6: 15 | T6: 16 | U6: 17 | V6: 18 | W6: 19 | X6: 20 | Y6: 21 | Z6: 22 | AA6: 23 | AB6: 24 | AC6: 25 | AD6: 26 | AE6: 27 | AF6: 28 | AG6: 29 | AH6: 30 | AI6: 31 | AJ6: ดื่มนมและแปรงฟัน | AK6: ไม่ดื่มนมและไม่แปรงฟัน
A7: =ข้อมูลพื้นฐานนักเรียน!A9 -> 1 | B7: =ข้อมูลพื้นฐานนักเรียน!B9 -> เด็กชาย | C7: =ข้อมูลพื้นฐานนักเรียน!C9 -> ภาคภูมิ | D7: =ข้อมูลพื้นฐานนักเรียน!D9 -> สิงห์สา | E7: / | F7: / | G7: / | H7: / | K7: / | L7: / | M7: / | N7: วันอาสาฬหบูชา | O7: วันเข้าพรรษา | R7: / | S7: / | T7: / | U7: / | V7: / | Y7: / | Z7: / | AA7: / | AB7: / | AC7: / | AF7: วันเฉลิมพระชนมพรรษาพระบาทสมเด็จพระวชิรเกล้าเจ้าอยู่หัว (ร.10) | AG7: / | AH7: / | AI7: / | AJ7: =COUNTIF(E7:AI7,"/") -> 20 | AK7: =COUNTIF(E7:AI7,"x") -> 0
A8: =ข้อมูลพื้นฐานนักเรียน!A10 -> 2 | B8: =ข้อมูลพื้นฐานนักเรียน!B10 -> เด็กชาย | C8: =ข้อมูลพื้นฐานนักเรียน!C10 -> จิรกร | D8: =ข้อมูลพื้นฐานนักเรียน!D10 -> คำประสงค์ | E8: / | F8: / | G8: / | H8: / | K8: / | L8: / | M8: / | R8: / | S8: / | T8: / | U8: / | V8: / | Y8: / | Z8: / | AA8: / | AB8: / | AC8: / | AG8: / | AH8: / | AI8: / | AJ8: =COUNTIF(E8:AI8,"/") -> 20 | AK8: =COUNTIF(E8:AI8,"x") -> 0
A9: =ข้อมูลพื้นฐานนักเรียน!A11 -> 3 | B9: =ข้อมูลพื้นฐานนักเรียน!B11 -> เด็กชาย | C9: =ข้อมูลพื้นฐานนักเรียน!C11 -> กันฑ์ภวัต | D9: =ข้อมูลพื้นฐานนักเรียน!D11 -> กำจัดภัย | E9: / | F9: / | G9: / | H9: / | K9: / | L9: / | M9: / | R9: / | S9: / | T9: / | U9: / | V9: / | Y9: / | Z9: / | AA9: / | AB9: / | AC9: / | AG9: / | AH9: / | AI9: / | AJ9: =COUNTIF(E9:AI9,"/") -> 20 | AK9: =COUNTIF(E9:AI9,"x") -> 0
A10: =ข้อมูลพื้นฐานนักเรียน!A12 -> 4 | B10: =ข้อมูลพื้นฐานนักเรียน!B12 -> เด็กชาย | C10: =ข้อมูลพื้นฐานนักเรียน!C12 -> สินอนันต์ | D10: =ข้อมูลพื้นฐานนักเรียน!D12 -> ชินคำ | E10: / | F10: / | G10: / | H10: / | K10: / | L10: / | M10: / | R10: / | S10: / | T10: / | U10: / | V10: / | Y10: / | Z10: / | AA10: / | AB10: / | AC10: / | AG10: / | AH10: / | AI10: / | AJ10: =COUNTIF(E10:AI10,"/") -> 20 | AK10: =COUNTIF(E10:AI10,"x") -> 0
A11: =ข้อมูลพื้นฐานนักเรียน!A13 -> 5 | B11: =ข้อมูลพื้นฐานนักเรียน!B13 -> เด็กชาย | C11: =ข้อมูลพื้นฐานนักเรียน!C13 -> ชนัดพล | D11: =ข้อมูลพื้นฐานนักเรียน!D13 -> ปิ่นนาค | E11: / | F11: / | G11: / | H11: / | K11: / | L11: / | M11: / | R11: / | S11: / | T11: / | U11: / | V11: / | Y11: / | Z11: / | AA11: / | AB11: / | AC11: / | AG11: / | AH11: / | AI11: / | AJ11: =COUNTIF(E11:AI11,"/") -> 20 | AK11: =COUNTIF(E11:AI11,"x") -> 0
A12: =ข้อมูลพื้นฐานนักเรียน!A14 -> 6 | B12: =ข้อมูลพื้นฐานนักเรียน!B14 -> เด็กชาย | C12: =ข้อมูลพื้นฐานนักเรียน!C14 -> ชัยภัทร | D12: =ข้อมูลพื้นฐานนักเรียน!D14 -> ม่วงศรี | E12: / | F12: / | G12: / | H12: / | K12: / | L12: / | M12: / | R12: / | S12: / | T12: / | U12: / | V12: / | Y12: / | Z12: / | AA12: / | AB12: / | AC12: / | AG12: / | AH12: / | AI12: / | AJ12: =COUNTIF(E12:AI12,"/") -> 20 | AK12: =COUNTIF(E12:AI12,"x") -> 0
A13: =ข้อมูลพื้นฐานนักเรียน!A15 -> 7 | B13: =ข้อมูลพื้นฐานนักเรียน!B15 -> เด็กชาย | C13: =ข้อมูลพื้นฐานนักเรียน!C15 -> ทศมล | D13: =ข้อมูลพื้นฐานนักเรียน!D15 -> ทิพพาวัน | E13: / | F13: / | G13: / | H13: / | K13: / | L13: / | M13: / | R13: / | S13: / | T13: / | U13: / | V13: / | Y13: / | Z13: / | AA13: / | AB13: / | AC13: / | AG13: / | AH13: / | AI13: / | AJ13: =COUNTIF(E13:AI13,"/") -> 20 | AK13: =COUNTIF(E13:AI13,"x") -> 0
A14: =ข้อมูลพื้นฐานนักเรียน!A16 -> 8 | B14: =ข้อมูลพื้นฐานนักเรียน!B16 -> เด็กชาย | C14: =ข้อมูลพื้นฐานนักเรียน!C16 -> ธนกฤต | D14: =ข้อมูลพื้นฐานนักเรียน!D16 -> รุ่งเรือง | E14: / | F14: / | G14: / | H14: / | K14: / | L14: / | M14: / | R14: / | S14: / | T14: / | U14: / | V14: / | Y14: / | Z14: / | AA14: / | AB14: / | AC14: / | AG14: / | AH14: / | AI14: / | AJ14: =COUNTIF(E14:AI14,"/") -> 20 | AK14: =COUNTIF(E14:AI14,"x") -> 0
A15: =ข้อมูลพื้นฐานนักเรียน!A17 -> 9 | B15: =ข้อมูลพื้นฐานนักเรียน!B17 -> เด็กชาย | C15: =ข้อมูลพื้นฐานนักเรียน!C17 -> เตชินท์ | D15: =ข้อมูลพื้นฐานนักเรียน!D17 -> สมบัติวงค์ | E15: / | F15: / | G15: / | H15: / | K15: / | L15: / | M15: / | R15: / | S15: / | T15: / | U15: / | V15: / | Y15: / | Z15: / | AA15: / | AB15: / | AC15: / | AG15: / | AH15: / | AI15: / | AJ15: =COUNTIF(E15:AI15,"/") -> 20 | AK15: =COUNTIF(E15:AI15,"x") -> 0
A16: =ข้อมูลพื้นฐานนักเรียน!A18 -> 10 | B16: =ข้อมูลพื้นฐานนักเรียน!B18 -> เด็กหญิง | C16: =ข้อมูลพื้นฐานนักเรียน!C18 -> สุจิณณา | D16: =ข้อมูลพื้นฐานนักเรียน!D18 -> ดีพร้อม | E16: / | F16: / | G16: / | H16: / | K16: / | L16: / | M16: / | R16: / | S16: / | T16: / | U16: / | V16: / | Y16: / | Z16: / | AA16: / | AB16: / | AC16: / | AG16: / | AH16: / | AI16: / | AJ16: =COUNTIF(E16:AI16,"/") -> 20 | AK16: =COUNTIF(E16:AI16,"x") -> 0
A17: =ข้อมูลพื้นฐานนักเรียน!A19 -> 11 | B17: =ข้อมูลพื้นฐานนักเรียน!B19 -> เด็กหญิง | C17: =ข้อมูลพื้นฐานนักเรียน!C19 -> ชนัญธิดา | D17: =ข้อมูลพื้นฐานนักเรียน!D19 -> สุวรรณวงค์ | E17: / | F17: / | G17: / | H17: / | K17: / | L17: / | M17: / | R17: / | S17: / | T17: / | U17: / | V17: / | Y17: / | Z17: / | AA17: / | AB17: / | AC17: / | AG17: / | AH17: / | AI17: / | AJ17: =COUNTIF(E17:AI17,"/") -> 20 | AK17: =COUNTIF(E17:AI17,"x") -> 0
A18: =ข้อมูลพื้นฐานนักเรียน!A20 -> 12 | B18: =ข้อมูลพื้นฐานนักเรียน!B20 -> เด็กหญิง | C18: =ข้อมูลพื้นฐานนักเรียน!C20 -> กชพร | D18: =ข้อมูลพื้นฐานนักเรียน!D20 -> สมนาค | E18: / | F18: / | G18: / | H18: / | K18: / | L18: / | M18: / | R18: / | S18: / | T18: / | U18: / | V18: / | Y18: / | Z18: / | AA18: / | AB18: / | AC18: / | AG18: / | AH18: / | AI18: / | AJ18: =COUNTIF(E18:AI18,"/") -> 20 | AK18: =COUNTIF(E18:AI18,"x") -> 0
A19: =ข้อมูลพื้นฐานนักเรียน!A21 -> 13 | B19: =ข้อมูลพื้นฐานนักเรียน!B21 -> เด็กหญิง | C19: =ข้อมูลพื้นฐานนักเรียน!C21 -> จิรัญญา | D19: =ข้อมูลพื้นฐานนักเรียน!D21 -> เกลี้ยงพร้อม | E19: / | F19: / | G19: / | H19: / | K19: / | L19: / | M19: / | R19: / | S19: / | T19: / | U19: / | V19: / | Y19: / | Z19: / | AA19: / | AB19: / | AC19: / | AG19: / | AH19: / | AI19: / | AJ19: =COUNTIF(E19:AI19,"/") -> 20 | AK19: =COUNTIF(E19:AI19,"x") -> 0
... A36: =ข้อมูลพื้นฐานนักเรียน!A38 -> 30 | B36: =ข้อมูลพื้นฐานนักเรียน!B38 -> เด็กหญิง | C36: =ข้อมูลพื้นฐานนักเรียน!C38 -> ณัฐภัทร | D36: =ข้อมูลพื้นฐานนักเรียน!D38 -> นาคเหนือ | E36: / | F36: / | G36: / | H36: / | K36: / | L36: / | M36: / | R36: / | S36: / | T36: / | U36: / | V36: / | Y36: / | Z36: / | AA36: / | AB36: / | AC36: / | AG36: / | AH36: / | AI36: / | AJ36: =COUNTIF(E36:AI36,"/") -> 20 | AK36: =COUNTIF(E36:AI36,"x") -> 0
A37: =ข้อมูลพื้นฐานนักเรียน!A39 -> 31
A38: =ข้อมูลพื้นฐานนักเรียน!A40 -> 32
A39: =ข้อมูลพื้นฐานนักเรียน!A41 -> 33
A40: =ข้อมูลพื้นฐานนักเรียน!A42 -> 34
A41: =ข้อมูลพื้นฐานนักเรียน!A43 -> 35
A42: =ข้อมูลพื้นฐานนักเรียน!A44 -> 36
A43: =ข้อมูลพื้นฐานนักเรียน!A45 -> 37
A44: =ข้อมูลพื้นฐานนักเรียน!A46 -> 38
A45: =ข้อมูลพื้นฐานนักเรียน!A47 -> 39
A46: =ข้อมูลพื้นฐานนักเรียน!A48 -> 40
A47: =ข้อมูลพื้นฐานนักเรียน!A49 -> 41
A48: =ข้อมูลพื้นฐานนักเรียน!A50 -> 42
... A56: =ข้อมูลพื้นฐานนักเรียน!A58 -> 50
G58: ...................................................................... | Z58: .......................................................
G59: ( ) | Z59: (นางสุชาวดี สุทธิวานิช)
G60: ครูประจำชั้น | Z60: ผู้อำนวยการโรงเรียน

Sheet เดือน ส.ค.
N1: บันทึกการดื่มนมและแปรงฟัน
K2: ประจำเดือน | P2: สิงหาคม | T2: พ.ศ. | W2: =AB3 -> 2568
F3: ชั้นประถมศึกษาที่ | M3: =ข้อมูลพื้นฐานนักเรียน!$C$3 -> 2/1 | O3: ภาคการเรียนที่ | U3: =ข้อมูลพื้นฐานนักเรียน!$C$4 -> 1 | W3: ปีการศึกษา | AB3: =ข้อมูลพื้นฐานนักเรียน!$C$5 -> 2568
L4: โรงเรียน | P4: =ข้อมูลพื้นฐานนักเรียน!$C$2 -> จารุศรบำรุง
A6: เลขที่ | B6: ชื่อ-สกุล | E6: วันที่ | AJ6: รวม
E7: 1 | F7: 2 | G7: 3 | H7: 4 | I7: 5 | J7: 6 | K7: 7 | L7: 8 | M7: 9 | N7: 10 | O7: 11 | P7: 12 | Q7: 13 | R7: 14 | S7: 15 | T7: 16 | U7: 17 | V7: 18 | W7: 19 | X7: 20 | Y7: 21 | Z7: 22 | AA7: 23 | AB7: 24 | AC7: 25 | AD7: 26 | AE7: 27 | AF7: 28 | AG7: 29 | AH7: 30 | AI7: 31 | AJ7: ดื่มและแปรงฟัน | AK7: ไม่ดื่มและไม่แปรงฟัน
A8: =ข้อมูลพื้นฐานนักเรียน!A9 -> 1 | B8: =ข้อมูลพื้นฐานนักเรียน!B9 -> เด็กชาย | C8: =ข้อมูลพื้นฐานนักเรียน!C9 -> ภาคภูมิ | D8: =ข้อมูลพื้นฐานนักเรียน!D9 -> สิงห์สา | E8: / | H8: x | I8: x | J8: x | K8: x | L8: x | O8: วันหยุดพิเศษเพิ่มเติม | P8: วันแม่แห่งชาติ | Q8: x | R8: x | S8: x | V8: x | W8: x | X8: / | Y8: / | Z8: / | AC8: / | AD8: / | AE8: x | AF8: x | AG8: / | AJ8: =COUNTIF(E8:AI8,"/") -> 7 | AK8: =COUNTIF(E8:AI8,"x") -> 12
A9: =ข้อมูลพื้นฐานนักเรียน!A10 -> 2 | B9: =ข้อมูลพื้นฐานนักเรียน!B10 -> เด็กชาย | C9: =ข้อมูลพื้นฐานนักเรียน!C10 -> จิรกร | D9: =ข้อมูลพื้นฐานนักเรียน!D10 -> คำประสงค์ | E9: / | H9: / | I9: / | J9: / | K9: / | L9: / | Q9: / | R9: / | S9: / | V9: / | W9: / | X9: / | Y9: / | Z9: / | AC9: / | AD9: / | AE9: / | AF9: / | AG9: / | AJ9: =COUNTIF(E9:AI9,"/") -> 19 | AK9: =COUNTIF(E9:AI9,"x") -> 0
A10: =ข้อมูลพื้นฐานนักเรียน!A11 -> 3 | B10: =ข้อมูลพื้นฐานนักเรียน!B11 -> เด็กชาย | C10: =ข้อมูลพื้นฐานนักเรียน!C11 -> กันฑ์ภวัต | D10: =ข้อมูลพื้นฐานนักเรียน!D11 -> กำจัดภัย | E10: / | H10: / | I10: / | J10: / | K10: / | L10: / | Q10: / | R10: / | S10: / | V10: / | W10: / | X10: / | Y10: / | Z10: / | AC10: / | AD10: / | AE10: / | AF10: / | AG10: / | AJ10: =COUNTIF(E10:AI10,"/") -> 19 | AK10: =COUNTIF(E10:AI10,"x") -> 0
A11: =ข้อมูลพื้นฐานนักเรียน!A12 -> 4 | B11: =ข้อมูลพื้นฐานนักเรียน!B12 -> เด็กชาย | C11: =ข้อมูลพื้นฐานนักเรียน!C12 -> สินอนันต์ | D11: =ข้อมูลพื้นฐานนักเรียน!D12 -> ชินคำ | E11: / | H11: / | I11: / | J11: / | K11: / | L11: / | Q11: / | R11: / | S11: / | V11: / | W11: / | X11: / | Y11: / | Z11: / | AC11: / | AD11: / | AE11: / | AF11: / | AG11: / | AJ11: =COUNTIF(E11:AI11,"/") -> 19 | AK11: =COUNTIF(E11:AI11,"x") -> 0
A12: =ข้อมูลพื้นฐานนักเรียน!A13 -> 5 | B12: =ข้อมูลพื้นฐานนักเรียน!B13 -> เด็กชาย | C12: =ข้อมูลพื้นฐานนักเรียน!C13 -> ชนัดพล | D12: =ข้อมูลพื้นฐานนักเรียน!D13 -> ปิ่นนาค | E12: / | H12: / | I12: / | J12: / | K12: / | L12: / | Q12: / | R12: / | S12: / | V12: / | W12: / | X12: / | Y12: / | Z12: / | AC12: / | AD12: / | AE12: / | AF12: / | AG12: / | AJ12: =COUNTIF(E12:AI12,"/") -> 19 | AK12: =COUNTIF(E12:AI12,"x") -> 0
A13: =ข้อมูลพื้นฐานนักเรียน!A14 -> 6 | B13: =ข้อมูลพื้นฐานนักเรียน!B14 -> เด็กชาย | C13: =ข้อมูลพื้นฐานนักเรียน!C14 -> ชัยภัทร | D13: =ข้อมูลพื้นฐานนักเรียน!D14 -> ม่วงศรี | E13: / | H13: / | I13: / | J13: / | K13: / | L13: / | Q13: / | R13: / | S13: / | V13: / | W13: / | X13: / | Y13: / | Z13: / | AC13: / | AD13: / | AE13: / | AF13: / | AG13: / | AJ13: =COUNTIF(E13:AI13,"/") -> 19 | AK13: =COUNTIF(E13:AI13,"x") -> 0
A14: =ข้อมูลพื้นฐานนักเรียน!A15 -> 7 | B14: =ข้อมูลพื้นฐานนักเรียน!B15 -> เด็กชาย | C14: =ข้อมูลพื้นฐานนักเรียน!C15 -> ทศมล | D14: =ข้อมูลพื้นฐานนักเรียน!D15 -> ทิพพาวัน | E14: / | H14: / | I14: / | J14: / | K14: / | L14: / | Q14: / | R14: / | S14: / | V14: / | W14: / | X14: / | Y14: / | Z14: / | AC14: / | AD14: / | AE14: / | AF14: / | AG14: / | AJ14: =COUNTIF(E14:AI14,"/") -> 19 | AK14: =COUNTIF(E14:AI14,"x") -> 0
A15: =ข้อมูลพื้นฐานนักเรียน!A16 -> 8 | B15: =ข้อมูลพื้นฐานนักเรียน!B16 -> เด็กชาย | C15: =ข้อมูลพื้นฐานนักเรียน!C16 -> ธนกฤต | D15: =ข้อมูลพื้นฐานนักเรียน!D16 -> รุ่งเรือง | E15: / | H15: / | I15: / | J15: / | K15: / | L15: / | Q15: / | R15: / | S15: / | V15: / | W15: / | X15: / | Y15: / | Z15: / | AC15: / | AD15: / | AE15: / | AF15: / | AG15: / | AJ15: =COUNTIF(E15:AI15,"/") -> 19 | AK15: =COUNTIF(E15:AI15,"x") -> 0
A16: =ข้อมูลพื้นฐานนักเรียน!A17 -> 9 | B16: =ข้อมูลพื้นฐานนักเรียน!B17 -> เด็กชาย | C16: =ข้อมูลพื้นฐานนักเรียน!C17 -> เตชินท์ | D16: =ข้อมูลพื้นฐานนักเรียน!D17 -> สมบัติวงค์ | E16: / | H16: / | I16: / | J16: / | K16: / | L16: / | Q16: / | R16: / | S16: / | V16: / | W16: / | X16: / | Y16: / | Z16: / | AC16: / | AD16: / | AE16: / | AF16: / | AG16: / | AJ16: =COUNTIF(E16:AI16,"/") -> 19 | AK16: =COUNTIF(E16:AI16,"x") -> 0
A17: =ข้อมูลพื้นฐานนักเรียน!A18 -> 10 | B17: =ข้อมูลพื้นฐานนักเรียน!B18 -> เด็กหญิง | C17: =ข้อมูลพื้นฐานนักเรียน!C18 -> สุจิณณา | D17: =ข้อมูลพื้นฐานนักเรียน!D18 -> ดีพร้อม | E17: / | H17: / | I17: / | J17: / | K17: / | L17: / | Q17: / | R17: / | S17: / | V17: / | W17: / | X17: / | Y17: / | Z17: / | AC17: / | AD17: / | AE17: / | AF17: / | AG17: / | AJ17: =COUNTIF(E17:AI17,"/") -> 19 | AK17: =COUNTIF(E17:AI17,"x") -> 0
A18: =ข้อมูลพื้นฐานนักเรียน!A19 -> 11 | B18: =ข้อมูลพื้นฐานนักเรียน!B19 -> เด็กหญิง | C18: =ข้อมูลพื้นฐานนักเรียน!C19 -> ชนัญธิดา | D18: =ข้อมูลพื้นฐานนักเรียน!D19 -> สุวรรณวงค์ | E18: / | H18: / | I18: / | J18: / | K18: / | L18: / | Q18: / | R18: / | S18: / | V18: / | W18: / | X18: / | Y18: / | Z18: / | AC18: / | AD18: / | AE18: / | AF18: / | AG18: / | AJ18: =COUNTIF(E18:AI18,"/") -> 19 | AK18: =COUNTIF(E18:AI18,"x") -> 0
A19: =ข้อมูลพื้นฐานนักเรียน!A20 -> 12 | B19: =ข้อมูลพื้นฐานนักเรียน!B20 -> เด็กหญิง | C19: =ข้อมูลพื้นฐานนักเรียน!C20 -> กชพร | D19: =ข้อมูลพื้นฐานนักเรียน!D20 -> สมนาค | E19: / | H19: / | I19: / | J19: / | K19: / | L19: / | Q19: / | R19: / | S19: / | V19: / | W19: / | X19: / | Y19: / | Z19: / | AC19: / | AD19: / | AE19: / | AF19: / | AG19: / | AJ19: =COUNTIF(E19:AI19,"/") -> 19 | AK19: =COUNTIF(E19:AI19,"x") -> 0
A20: =ข้อมูลพื้นฐานนักเรียน!A21 -> 13 | B20: =ข้อมูลพื้นฐานนักเรียน!B21 -> เด็กหญิง | C20: =ข้อมูลพื้นฐานนักเรียน!C21 -> จิรัญญา | D20: =ข้อมูลพื้นฐานนักเรียน!D21 -> เกลี้ยงพร้อม | E20: / | H20: / | I20: / | J20: / | K20: / | L20: / | Q20: / | R20: / | S20: / | V20: / | W20: / | X20: / | Y20: / | Z20: / | AC20: / | AD20: / | AE20: / | AF20: / | AG20: / | AJ20: =COUNTIF(E20:AI20,"/") -> 19 | AK20: =COUNTIF(E20:AI20,"x") -> 0
... A37: =ข้อมูลพื้นฐานนักเรียน!A38 -> 30 | B37: =ข้อมูลพื้นฐานนักเรียน!B38 -> เด็กหญิง | C37: =ข้อมูลพื้นฐานนักเรียน!C38 -> ณัฐภัทร | D37: =ข้อมูลพื้นฐานนักเรียน!D38 -> นาคเหนือ | E37: / | H37: / | I37: / | J37: / | K37: / | L37: / | Q37: / | R37: / | S37: / | V37: / | W37: / | X37: / | Y37: / | Z37: / | AC37: / | AD37: / | AE37: / | AF37: / | AG37: / | AJ37: =COUNTIF(E37:AI37,"/") -> 19 | AK37: =COUNTIF(E37:AI37,"x") -> 0
A38: =ข้อมูลพื้นฐานนักเรียน!A39 -> 31
A39: =ข้อมูลพื้นฐานนักเรียน!A40 -> 32
A40: =ข้อมูลพื้นฐานนักเรียน!A41 -> 33
A41: =ข้อมูลพื้นฐานนักเรียน!A42 -> 34
A42: =ข้อมูลพื้นฐานนักเรียน!A43 -> 35
A43: =ข้อมูลพื้นฐานนักเรียน!A44 -> 36
A44: =ข้อมูลพื้นฐานนักเรียน!A45 -> 37
A45: =ข้อมูลพื้นฐานนักเรียน!A46 -> 38
A46: =ข้อมูลพื้นฐานนักเรียน!A47 -> 39
A47: =ข้อมูลพื้นฐานนักเรียน!A48 -> 40
A48: =ข้อมูลพื้นฐานนักเรียน!A49 -> 41
A49: =ข้อมูลพื้นฐานนักเรียน!A50 -> 42
... A57: =ข้อมูลพื้นฐานนักเรียน!A58 -> 50
H59: ...................................................................... | AA59: .......................................................
H60: ( ) | AA60: (นางสุชาวดี สุทธิวานิช)
H61: ครูประจำชั้น | AA61: ผู้อำนวยการโรงเรียน

Sheet เดือน ก.ย.
N1: บันทึกการดื่มนมและแปรงฟัน
K2: ประจำเดือน | P2: กันยายน | T2: พ.ศ. | W2: =AB3 -> 2568
F3: ชั้นประถมศึกษาที่ | M3: =ข้อมูลพื้นฐานนักเรียน!$C$3 -> 2/1 | O3: ภาคการเรียนที่ | U3: =ข้อมูลพื้นฐานนักเรียน!$C$4 -> 1 | W3: ปีการศึกษา | AB3: =ข้อมูลพื้นฐานนักเรียน!$C$5 -> 2568
L4: โรงเรียน | P4: =ข้อมูลพื้นฐานนักเรียน!$C$2 -> จารุศรบำรุง
A6: เลขที่ | B6: ชื่อ-สกุล | E6: วันที่ | AI6: รวม
E7: 1 | F7: 2 | G7: 3 | H7: 4 | I7: 5 | J7: 6 | K7: 7 | L7: 8 | M7: 9 | N7: 10 | O7: 11 | P7: 12 | Q7: 13 | R7: 14 | S7: 15 | T7: 16 | U7: 17 | V7: 18 | W7: 19 | X7: 20 | Y7: 21 | Z7: 22 | AA7: 23 | AB7: 24 | AC7: 25 | AD7: 26 | AE7: 27 | AF7: 28 | AG7: 29 | AH7: 30 | AI7: ดื่มนมและแปรงฟัน | AJ7: ไม่ดื่มและไม่แปรงฟัน
A8: =ข้อมูลพื้นฐานนักเรียน!A9 -> 1 | B8: =ข้อมูลพื้นฐานนักเรียน!B9 -> เด็กชาย | C8: =ข้อมูลพื้นฐานนักเรียน!C9 -> ภาคภูมิ | D8: =ข้อมูลพื้นฐานนักเรียน!D9 -> สิงห์สา | E8: / | F8: / | G8: / | H8: / | I8: / | L8: / | M8: / | N8: / | O8: / | P8: / | S8: / | T8: / | U8: / | V8: / | W8: / | Z8: / | AA8: x | AB8: / | AC8: / | AD8: x | AG8: / | AH8: / | AI8: =COUNTIF(E8:AH8,"/") -> 20 | AJ8: =COUNTIF(E8:AH8,"x") -> 2
A9: =ข้อมูลพื้นฐานนักเรียน!A10 -> 2 | B9: =ข้อมูลพื้นฐานนักเรียน!B10 -> เด็กชาย | C9: =ข้อมูลพื้นฐานนักเรียน!C10 -> จิรกร | D9: =ข้อมูลพื้นฐานนักเรียน!D10 -> คำประสงค์ | E9: / | F9: / | G9: / | H9: / | I9: / | L9: / | M9: / | N9: / | O9: / | P9: / | S9: / | T9: / | U9: / | V9: / | W9: / | Z9: / | AA9: / | AB9: / | AC9: / | AD9: / | AG9: / | AH9: / | AI9: =COUNTIF(E9:AH9,"/") -> 22 | AJ9: =COUNTIF(E9:AH9,"x") -> 0
A10: =ข้อมูลพื้นฐานนักเรียน!A11 -> 3 | B10: =ข้อมูลพื้นฐานนักเรียน!B11 -> เด็กชาย | C10: =ข้อมูลพื้นฐานนักเรียน!C11 -> กันฑ์ภวัต | D10: =ข้อมูลพื้นฐานนักเรียน!D11 -> กำจัดภัย | E10: / | F10: / | G10: / | H10: / | I10: / | L10: / | M10: / | N10: / | O10: / | P10: / | S10: / | T10: / | U10: / | V10: / | W10: / | Z10: / | AA10: / | AB10: / | AC10: / | AD10: / | AG10: / | AH10: / | AI10: =COUNTIF(E10:AH10,"/") -> 22 | AJ10: =COUNTIF(E10:AH10,"x") -> 0
A11: =ข้อมูลพื้นฐานนักเรียน!A12 -> 4 | B11: =ข้อมูลพื้นฐานนักเรียน!B12 -> เด็กชาย | C11: =ข้อมูลพื้นฐานนักเรียน!C12 -> สินอนันต์ | D11: =ข้อมูลพื้นฐานนักเรียน!D12 -> ชินคำ | E11: / | F11: / | G11: / | H11: / | I11: / | L11: / | M11: / | N11: / | O11: / | P11: / | S11: / | T11: / | U11: / | V11: / | W11: / | Z11: / | AA11: / | AB11: / | AC11: / | AD11: / | AG11: / | AH11: / | AI11: =COUNTIF(E11:AH11,"/") -> 22 | AJ11: =COUNTIF(E11:AH11,"x") -> 0
A12: =ข้อมูลพื้นฐานนักเรียน!A13 -> 5 | B12: =ข้อมูลพื้นฐานนักเรียน!B13 -> เด็กชาย | C12: =ข้อมูลพื้นฐานนักเรียน!C13 -> ชนัดพล | D12: =ข้อมูลพื้นฐานนักเรียน!D13 -> ปิ่นนาค | E12: / | F12: / | G12: / | H12: / | I12: / | L12: / | M12: / | N12: / | O12: / | P12: / | S12: / | T12: / | U12: / | V12: / | W12: / | Z12: / | AA12: / | AB12: / | AC12: / | AD12: / | AG12: / | AH12: / | AI12: =COUNTIF(E12:AH12,"/") -> 22 | AJ12: =COUNTIF(E12:AH12,"x") -> 0
A13: =ข้อมูลพื้นฐานนักเรียน!A14 -> 6 | B13: =ข้อมูลพื้นฐานนักเรียน!B14 -> เด็กชาย | C13: =ข้อมูลพื้นฐานนักเรียน!C14 -> ชัยภัทร | D13: =ข้อมูลพื้นฐานนักเรียน!D14 -> ม่วงศรี | E13: / | F13: / | G13: / | H13: / | I13: / | L13: / | M13: / | N13: / | O13: / | P13: / | S13: / | T13: / | U13: / | V13: / | W13: / | Z13: / | AA13: / | AB13: / | AC13: / | AD13: / | AG13: / | AH13: / | AI13: =COUNTIF(E13:AH13,"/") -> 22 | AJ13: =COUNTIF(E13:AH13,"x") -> 0
A14: =ข้อมูลพื้นฐานนักเรียน!A15 -> 7 | B14: =ข้อมูลพื้นฐานนักเรียน!B15 -> เด็กชาย | C14: =ข้อมูลพื้นฐานนักเรียน!C15 -> ทศมล | D14: =ข้อมูลพื้นฐานนักเรียน!D15 -> ทิพพาวัน | E14: / | F14: / | G14: / | H14: / | I14: / | L14: / | M14: / | N14: / | O14: / | P14: / | S14: / | T14: / | U14: / | V14: / | W14: / | Z14: / | AA14: / | AB14: / | AC14: / | AD14: / | AG14: / | AH14: / | AI14: =COUNTIF(E14:AH14,"/") -> 22 | AJ14: =COUNTIF(E14:AH14,"x") -> 0
A15: =ข้อมูลพื้นฐานนักเรียน!A16 -> 8 | B15: =ข้อมูลพื้นฐานนักเรียน!B16 -> เด็กชาย | C15: =ข้อมูลพื้นฐานนักเรียน!C16 -> ธนกฤต | D15: =ข้อมูลพื้นฐานนักเรียน!D16 -> รุ่งเรือง | E15: / | F15: / | G15: / | H15: / | I15: / | L15: / | M15: / | N15: / | O15: / | P15: / | S15: / | T15: / | U15: / | V15: / | W15: / | Z15: / | AA15: / | AB15: / | AC15: / | AD15: / | AG15: / | AH15: / | AI15: =COUNTIF(E15:AH15,"/") -> 22 | AJ15: =COUNTIF(E15:AH15,"x") -> 0
A16: =ข้อมูลพื้นฐานนักเรียน!A17 -> 9 | B16: =ข้อมูลพื้นฐานนักเรียน!B17 -> เด็กชาย | C16: =ข้อมูลพื้นฐานนักเรียน!C17 -> เตชินท์ | D16: =ข้อมูลพื้นฐานนักเรียน!D17 -> สมบัติวงค์ | E16: / | F16: / | G16: / | H16: / | I16: / | L16: / | M16: / | N16: / | O16: / | P16: / | S16: / | T16: / | U16: / | V16: / | W16: / | Z16: / | AA16: / | AB16: / | AC16: / | AD16: / | AG16: / | AH16: / | AI16: =COUNTIF(E16:AH16,"/") -> 22 | AJ16: =COUNTIF(E16:AH16,"x") -> 0
A17: =ข้อมูลพื้นฐานนักเรียน!A18 -> 10 | B17: =ข้อมูลพื้นฐานนักเรียน!B18 -> เด็กหญิง | C17: =ข้อมูลพื้นฐานนักเรียน!C18 -> สุจิณณา | D17: =ข้อมูลพื้นฐานนักเรียน!D18 -> ดีพร้อม | E17: / | F17: / | G17: / | H17: / | I17: / | L17: / | M17: / | N17: / | O17: / | P17: / | S17: / | T17: / | U17: / | V17: / | W17: / | Z17: / | AA17: / | AB17: / | AC17: / | AD17: / | AG17: / | AH17: / | AI17: =COUNTIF(E17:AH17,"/") -> 22 | AJ17: =COUNTIF(E17:AH17,"x") -> 0
A18: =ข้อมูลพื้นฐานนักเรียน!A19 -> 11 | B18: =ข้อมูลพื้นฐานนักเรียน!B19 -> เด็กหญิง | C18: =ข้อมูลพื้นฐานนักเรียน!C19 -> ชนัญธิดา | D18: =ข้อมูลพื้นฐานนักเรียน!D19 -> สุวรรณวงค์ | E18: / | F18: / | G18: / | H18: / | I18: / | L18: / | M18: / | N18: / | O18: / | P18: / | S18: / | T18: / | U18: / | V18: / | W18: / | Z18: / | AA18: / | AB18: / | AC18: / | AD18: / | AG18: / | AH18: / | AI18: =COUNTIF(E18:AH18,"/") -> 22 | AJ18: =COUNTIF(E18:AH18,"x") -> 0
A19: =ข้อมูลพื้นฐานนักเรียน!A20 -> 12 | B19: =ข้อมูลพื้นฐานนักเรียน!B20 -> เด็กหญิง | C19: =ข้อมูลพื้นฐานนักเรียน!C20 -> กชพร | D19: =ข้อมูลพื้นฐานนักเรียน!D20 -> สมนาค | E19: / | F19: / | G19: / | H19: / | I19: / | L19: / | M19: / | N19: / | O19: / | P19: / | S19: / | T19: / | U19: / | V19: / | W19: / | Z19: / | AA19: / | AB19: / | AC19: / | AD19: / | AG19: / | AH19: / | AI19: =COUNTIF(E19:AH19,"/") -> 22 | AJ19: =COUNTIF(E19:AH19,"x") -> 0
... A37: =ข้อมูลพื้นฐานนักเรียน!A38 -> 30 | B37: =ข้อมูลพื้นฐานนักเรียน!B38 -> เด็กหญิง | C37: =ข้อมูลพื้นฐานนักเรียน!C38 -> ณัฐภัทร | D37: =ข้อมูลพื้นฐานนักเรียน!D38 -> นาคเหนือ | E37: / | F37: / | G37: / | H37: / | I37: / | L37: / | M37: / | N37: / | O37: / | P37: / | S37: / | T37: / | U37: / | V37: / | W37: / | Z37: / | AA37: / | AB37: / | AC37: / | AD37: / | AG37: / | AH37: / | AI37: =COUNTIF(E37:AH37,"/") -> 22 | AJ37: =COUNTIF(E37:AH37,"x") -> 0
A38: =ข้อมูลพื้นฐานนักเรียน!A39 -> 31
A39: =ข้อมูลพื้นฐานนักเรียน!A40 -> 32
A40: =ข้อมูลพื้นฐานนักเรียน!A41 -> 33
A41: =ข้อมูลพื้นฐานนักเรียน!A42 -> 34
A42: =ข้อมูลพื้นฐานนักเรียน!A43 -> 35
A43: =ข้อมูลพื้นฐานนักเรียน!A44 -> 36
A44: =ข้อมูลพื้นฐานนักเรียน!A45 -> 37
A45: =ข้อมูลพื้นฐานนักเรียน!A46 -> 38
A46: =ข้อมูลพื้นฐานนักเรียน!A47 -> 39
A47: =ข้อมูลพื้นฐานนักเรียน!A48 -> 40
A48: =ข้อมูลพื้นฐานนักเรียน!A49 -> 41
A49: =ข้อมูลพื้นฐานนักเรียน!A50 -> 42
... A57: =ข้อมูลพื้นฐานนักเรียน!A58 -> 50
G59: ...................................................................... | Z59: .......................................................
G60: ( ) | Z60: (นางสุชาวดี สุทธิวานิช)
G61: ครูประจำชั้น | Z61: ผู้อำนวยการโรงเรียน

Sheet เดือน ต.ค.
N1: บันทึกการดื่มนมและแปรงฟัน
K2: ประจำเดือน | P2: ตุลาคม | T2: พ.ศ. | W2: =AB3 -> 2568
F3: ชั้นประถมศึกษาที่ | M3: =ข้อมูลพื้นฐานนักเรียน!$C$3 -> 2/1 | O3: ภาคการเรียนที่ | U3: =ข้อมูลพื้นฐานนักเรียน!$C$4 -> 1 | W3: ปีการศึกษา | AB3: =ข้อมูลพื้นฐานนักเรียน!$C$5 -> 2568
L4: โรงเรียน | P4: =ข้อมูลพื้นฐานนักเรียน!$C$2 -> จารุศรบำรุง
A6: เลขที่ | B6: ชื่อ-สกุล | E6: วันที่ | AJ6: รวม
E7: 1 | F7: 2 | G7: 3 | H7: 4 | I7: 5 | J7: 6 | K7: 7 | L7: 8 | M7: 9 | N7: 10 | O7: 11 | P7: 12 | Q7: 13 | R7: 14 | S7: 15 | T7: 16 | U7: 17 | V7: 18 | W7: 19 | X7: 20 | Y7: 21 | Z7: 22 | AA7: 23 | AB7: 24 | AC7: 25 | AD7: 26 | AE7: 27 | AF7: 28 | AG7: 29 | AH7: 30 | AI7: 31 | AJ7: ดื่มและแปรงฟัน | AK7: ไม่ดื่มและไม่แปรงฟัน
A8: =ข้อมูลพื้นฐานนักเรียน!A9 -> 1 | B8: =ข้อมูลพื้นฐานนักเรียน!B9 -> เด็กชาย | C8: =ข้อมูลพื้นฐานนักเรียน!C9 -> ภาคภูมิ | D8: =ข้อมูลพื้นฐานนักเรียน!D9 -> สิงห์สา | E8: / | F8: / | G8: / | J8: / | K8: / | L8: / | M8: / | N8: / | Q8: วันคล้ายวันสวรรคต ร.9 | R8: / | AA8: วันปิยะมหาราช | AJ8: =COUNTIF(E8:AI8,"/") -> 9 | AK8: =COUNTIF(E8:AI8,"x") -> 0
A9: =ข้อมูลพื้นฐานนักเรียน!A10 -> 2 | B9: =ข้อมูลพื้นฐานนักเรียน!B10 -> เด็กชาย | C9: =ข้อมูลพื้นฐานนักเรียน!C10 -> จิรกร | D9: =ข้อมูลพื้นฐานนักเรียน!D10 -> คำประสงค์ | E9: / | F9: / | G9: / | J9: / | K9: / | L9: / | M9: / | N9: / | R9: / | AJ9: =COUNTIF(E9:AI9,"/") -> 9 | AK9: =COUNTIF(E9:AI9,"x") -> 0
A10: =ข้อมูลพื้นฐานนักเรียน!A11 -> 3 | B10: =ข้อมูลพื้นฐานนักเรียน!B11 -> เด็กชาย | C10: =ข้อมูลพื้นฐานนักเรียน!C11 -> กันฑ์ภวัต | D10: =ข้อมูลพื้นฐานนักเรียน!D11 -> กำจัดภัย | E10: / | F10: / | G10: / | J10: / | K10: / | L10: / | M10: / | N10: / | R10: / | AJ10: =COUNTIF(E10:AI10,"/") -> 9 | AK10: =COUNTIF(E10:AI10,"x") -> 0
A11: =ข้อมูลพื้นฐานนักเรียน!A12 -> 4 | B11: =ข้อมูลพื้นฐานนักเรียน!B12 -> เด็กชาย | C11: =ข้อมูลพื้นฐานนักเรียน!C12 -> สินอนันต์ | D11: =ข้อมูลพื้นฐานนักเรียน!D12 -> ชินคำ | E11: / | F11: / | G11: / | J11: / | K11: / | L11: / | M11: / | N11: / | R11: / | AJ11: =COUNTIF(E11:AI11,"/") -> 9 | AK11: =COUNTIF(E11:AI11,"x") -> 0
A12: =ข้อมูลพื้นฐานนักเรียน!A13 -> 5 | B12: =ข้อมูลพื้นฐานนักเรียน!B13 -> เด็กชาย | C12: =ข้อมูลพื้นฐานนักเรียน!C13 -> ชนัดพล | D12: =ข้อมูลพื้นฐานนักเรียน!D13 -> ปิ่นนาค | E12: / | F12: / | G12: / | J12: / | K12: / | L12: / | M12: / | N12: / | R12: / | AJ12: =COUNTIF(E12:AI12,"/") -> 9 | AK12: =COUNTIF(E12:AI12,"x") -> 0
A13: =ข้อมูลพื้นฐานนักเรียน!A14 -> 6 | B13: =ข้อมูลพื้นฐานนักเรียน!B14 -> เด็กชาย | C13: =ข้อมูลพื้นฐานนักเรียน!C14 -> ชัยภัทร | D13: =ข้อมูลพื้นฐานนักเรียน!D14 -> ม่วงศรี | E13: / | F13: / | G13: / | J13: / | K13: / | L13: / | M13: / | N13: / | R13: / | AJ13: =COUNTIF(E13:AI13,"/") -> 9 | AK13: =COUNTIF(E13:AI13,"x") -> 0
A14: =ข้อมูลพื้นฐานนักเรียน!A15 -> 7 | B14: =ข้อมูลพื้นฐานนักเรียน!B15 -> เด็กชาย | C14: =ข้อมูลพื้นฐานนักเรียน!C15 -> ทศมล | D14: =ข้อมูลพื้นฐานนักเรียน!D15 -> ทิพพาวัน | E14: / | F14: / | G14: / | J14: / | K14: / | L14: / | M14: / | N14: / | R14: / | AJ14: =COUNTIF(E14:AI14,"/") -> 9 | AK14: =COUNTIF(E14:AI14,"x") -> 0
A15: =ข้อมูลพื้นฐานนักเรียน!A16 -> 8 | B15: =ข้อมูลพื้นฐานนักเรียน!B16 -> เด็กชาย | C15: =ข้อมูลพื้นฐานนักเรียน!C16 -> ธนกฤต | D15: =ข้อมูลพื้นฐานนักเรียน!D16 -> รุ่งเรือง | E15: / | F15: / | G15: / | J15: / | K15: / | L15: / | M15: / | N15: / | R15: / | AJ15: =COUNTIF(E15:AI15,"/") -> 9 | AK15: =COUNTIF(E15:AI15,"x") -> 0
A16: =ข้อมูลพื้นฐานนักเรียน!A17 -> 9 | B16: =ข้อมูลพื้นฐานนักเรียน!B17 -> เด็กชาย | C16: =ข้อมูลพื้นฐานนักเรียน!C17 -> เตชินท์ | D16: =ข้อมูลพื้นฐานนักเรียน!D17 -> สมบัติวงค์ | E16: / | F16: / | G16: / | J16: / | K16: / | L16: / | M16: / | N16: / | R16: / | AJ16: =COUNTIF(E16:AI16,"/") -> 9 | AK16: =COUNTIF(E16:AI16,"x") -> 0
A17: =ข้อมูลพื้นฐานนักเรียน!A18 -> 10 | B17: =ข้อมูลพื้นฐานนักเรียน!B18 -> เด็กหญิง | C17: =ข้อมูลพื้นฐานนักเรียน!C18 -> สุจิณณา | D17: =ข้อมูลพื้นฐานนักเรียน!D18 -> ดีพร้อม | E17: / | F17: / | G17: / | J17: / | K17: / | L17: / | M17: / | N17: / | R17: / | AJ17: =COUNTIF(E17:AI17,"/") -> 9 | AK17: =COUNTIF(E17:AI17,"x") -> 0
A18: =ข้อมูลพื้นฐานนักเรียน!A19 -> 11 | B18: =ข้อมูลพื้นฐานนักเรียน!B19 -> เด็กหญิง | C18: =ข้อมูลพื้นฐานนักเรียน!C19 -> ชนัญธิดา | D18: =ข้อมูลพื้นฐานนักเรียน!D19 -> สุวรรณวงค์ | E18: / | F18: / | G18: / | J18: / | K18: / | L18: / | M18: / | N18: / | R18: / | AJ18: =COUNTIF(E18:AI18,"/") -> 9 | AK18: =COUNTIF(E18:AI18,"x") -> 0
A19: =ข้อมูลพื้นฐานนักเรียน!A20 -> 12 | B19: =ข้อมูลพื้นฐานนักเรียน!B20 -> เด็กหญิง | C19: =ข้อมูลพื้นฐานนักเรียน!C20 -> กชพร | D19: =ข้อมูลพื้นฐานนักเรียน!D20 -> สมนาค | E19: / | F19: / | G19: / | J19: / | K19: / | L19: / | M19: / | N19: / | R19: / | AJ19: =COUNTIF(E19:AI19,"/") -> 9 | AK19: =COUNTIF(E19:AI19,"x") -> 0
A20: =ข้อมูลพื้นฐานนักเรียน!A21 -> 13 | B20: =ข้อมูลพื้นฐานนักเรียน!B21 -> เด็กหญิง | C20: =ข้อมูลพื้นฐานนักเรียน!C21 -> จิรัญญา | D20: =ข้อมูลพื้นฐานนักเรียน!D21 -> เกลี้ยงพร้อม | E20: / | F20: / | G20: / | J20: / | K20: / | L20: / | M20: / | N20: / | R20: / | AJ20: =COUNTIF(E20:AI20,"/") -> 9 | AK20: =COUNTIF(E20:AI20,"x") -> 0
... A37: =ข้อมูลพื้นฐานนักเรียน!A38 -> 30 | B37: =ข้อมูลพื้นฐานนักเรียน!B38 -> เด็กหญิง | C37: =ข้อมูลพื้นฐานนักเรียน!C38 -> ณัฐภัทร | D37: =ข้อมูลพื้นฐานนักเรียน!D38 -> นาคเหนือ | E37: / | F37: / | G37: / | J37: / | K37: / | L37: / | M37: / | N37: / | R37: / | AJ37: =COUNTIF(E37:AI37,"/") -> 9 | AK37: =COUNTIF(E37:AI37,"x") -> 0
A38: =ข้อมูลพื้นฐานนักเรียน!A39 -> 31
A39: =ข้อมูลพื้นฐานนักเรียน!A40 -> 32
A40: =ข้อมูลพื้นฐานนักเรียน!A41 -> 33
A41: =ข้อมูลพื้นฐานนักเรียน!A42 -> 34
A42: =ข้อมูลพื้นฐานนักเรียน!A43 -> 35
A43: =ข้อมูลพื้นฐานนักเรียน!A44 -> 36
A44: =ข้อมูลพื้นฐานนักเรียน!A45 -> 37
A45: =ข้อมูลพื้นฐานนักเรียน!A46 -> 38
A46: =ข้อมูลพื้นฐานนักเรียน!A47 -> 39
A47: =ข้อมูลพื้นฐานนักเรียน!A48 -> 40
A48: =ข้อมูลพื้นฐานนักเรียน!A49 -> 41
A49: =ข้อมูลพื้นฐานนักเรียน!A50 -> 42
... A57: =ข้อมูลพื้นฐานนักเรียน!A58 -> 50
H59: ...................................................................... | AA59: .......................................................
H60: ( ) | AA60: (นางสุชาวดี สุทธิวานิช)
H61: ครูประจำชั้น | AA61: ผู้อำนวยการโรงเรียน

Sheet สรุปเทอม 1
C1: สรุปการดื่มนมและแปรงฟันของนักเรียน ภาคการเรียนที่ 1
D3: ชั้นประถมศึกษาที่ | E3: =ข้อมูลพื้นฐานนักเรียน!$C$3 -> 2/1 | F3: ปีการศึกษา | G3: =ข้อมูลพื้นฐานนักเรียน!$C$5 -> 2568
D4: โรงเรียน | E4: =ข้อมูลพื้นฐานนักเรียน!$C$2 -> จารุศรบำรุง
A6: เลขที่ | B6: ชื่อ-สกุล | E6: จำนวนครั้งที่ ดื่มนมและแปรงฟัน | F6: จำนวนครั้งที่ไม่ดื่มนมและไม่แปรงฟัน | G6: ร้อยละการดื่มนมและแปรงฟัน | I6: หมายเหตุ
G7: ทั้งหมด | H7: ร้อยละ
A8: =ข้อมูลพื้นฐานนักเรียน!A9 -> 1 | B8: =ข้อมูลพื้นฐานนักเรียน!B9 -> เด็กชาย | C8: =ข้อมูลพื้นฐานนักเรียน!C9 -> ภาคภูมิ | D8: =ข้อมูลพื้นฐานนักเรียน!D9 -> สิงห์สา | E8: ='เดือน พ.ค. '!AJ7+'เดือน มิ.ย.'!AI8+'เดือน ก.ค. '!AJ7+'เดือน ส.ค.'!AJ8+'เดือน ก.ย.'!AI8+'เดือน ต.ค.'!AJ8 -> 79 | F8: ='เดือน พ.ค. '!AK7+'เดือน มิ.ย.'!AJ8+'เดือน ก.ค. '!AK7+'เดือน ส.ค.'!AK8+'เดือน ก.ย.'!AJ8+'เดือน ต.ค.'!AK8 -> 21 | G8: =E8+F8 -> 100 | H8: =(E8/G8)*100 -> 79 | I8: =IF(H8>=$D$59,"ผ่าน","ไม่ผ่าน") -> ไม่ผ่าน
A9: =ข้อมูลพื้นฐานนักเรียน!A10 -> 2 | B9: =ข้อมูลพื้นฐานนักเรียน!B10 -> เด็กชาย | C9: =ข้อมูลพื้นฐานนักเรียน!C10 -> จิรกร | D9: =ข้อมูลพื้นฐานนักเรียน!D10 -> คำประสงค์ | E9: ='เดือน พ.ค. '!AJ8+'เดือน มิ.ย.'!AI9+'เดือน ก.ค. '!AJ8+'เดือน ส.ค.'!AJ9+'เดือน ก.ย.'!AI9+'เดือน ต.ค.'!AJ9 -> 100 | F9: ='เดือน พ.ค. '!AK8+'เดือน มิ.ย.'!AJ9+'เดือน ก.ค. '!AK8+'เดือน ส.ค.'!AK9+'เดือน ก.ย.'!AJ9+'เดือน ต.ค.'!AK9 -> 0 | G9: =E9+F9 -> 100 | H9: =(E9/G9)*100 -> 100 | I9: =IF(H9>=$D$59,"ผ่าน","ไม่ผ่าน") -> ผ่าน
A10: =ข้อมูลพื้นฐานนักเรียน!A11 -> 3 | B10: =ข้อมูลพื้นฐานนักเรียน!B11 -> เด็กชาย | C10: =ข้อมูลพื้นฐานนักเรียน!C11 -> กันฑ์ภวัต | D10: =ข้อมูลพื้นฐานนักเรียน!D11 -> กำจัดภัย | E10: ='เดือน พ.ค. '!AJ9+'เดือน มิ.ย.'!AI10+'เดือน ก.ค. '!AJ9+'เดือน ส.ค.'!AJ10+'เดือน ก.ย.'!AI10+'เดือน ต.ค.'!AJ10 -> 100 | F10: ='เดือน พ.ค. '!AK9+'เดือน มิ.ย.'!AJ10+'เดือน ก.ค. '!AK9+'เดือน ส.ค.'!AK10+'เดือน ก.ย.'!AJ10+'เดือน ต.ค.'!AK10 -> 0 | G10: =E10+F10 -> 100 | H10: =(E10/G10)*100 -> 100 | I10: =IF(H10>=$D$59,"ผ่าน","ไม่ผ่าน") -> ผ่าน
A11: =ข้อมูลพื้นฐานนักเรียน!A12 -> 4 | B11: =ข้อมูลพื้นฐานนักเรียน!B12 -> เด็กชาย | C11: =ข้อมูลพื้นฐานนักเรียน!C12 -> สินอนันต์ | D11: =ข้อมูลพื้นฐานนักเรียน!D12 -> ชินคำ | E11: ='เดือน พ.ค. '!AJ10+'เดือน มิ.ย.'!AI11+'เดือน ก.ค. '!AJ10+'เดือน ส.ค.'!AJ11+'เดือน ก.ย.'!AI11+'เดือน ต.ค.'!AJ11 -> 100 | F11: ='เดือน พ.ค. '!AK10+'เดือน มิ.ย.'!AJ11+'เดือน ก.ค. '!AK10+'เดือน ส.ค.'!AK11+'เดือน ก.ย.'!AJ11+'เดือน ต.ค.'!AK11 -> 0 | G11: =E11+F11 -> 100 | H11: =(E11/G11)*100 -> 100 | I11: =IF(H11>=$D$59,"ผ่าน","ไม่ผ่าน") -> ผ่าน
A12: =ข้อมูลพื้นฐานนักเรียน!A13 -> 5 | B12: =ข้อมูลพื้นฐานนักเรียน!B13 -> เด็กชาย | C12: =ข้อมูลพื้นฐานนักเรียน!C13 -> ชนัดพล | D12: =ข้อมูลพื้นฐานนักเรียน!D13 -> ปิ่นนาค | E12: ='เดือน พ.ค. '!AJ11+'เดือน มิ.ย.'!AI12+'เดือน ก.ค. '!AJ11+'เดือน ส.ค.'!AJ12+'เดือน ก.ย.'!AI12+'เดือน ต.ค.'!AJ12 -> 100 | F12: ='เดือน พ.ค. '!AK11+'เดือน มิ.ย.'!AJ12+'เดือน ก.ค. '!AK11+'เดือน ส.ค.'!AK12+'เดือน ก.ย.'!AJ12+'เดือน ต.ค.'!AK12 -> 0 | G12: =E12+F12 -> 100 | H12: =(E12/G12)*100 -> 100 | I12: =IF(H12>=$D$59,"ผ่าน","ไม่ผ่าน") -> ผ่าน
A13: =ข้อมูลพื้นฐานนักเรียน!A14 -> 6 | B13: =ข้อมูลพื้นฐานนักเรียน!B14 -> เด็กชาย | C13: =ข้อมูลพื้นฐานนักเรียน!C14 -> ชัยภัทร | D13: =ข้อมูลพื้นฐานนักเรียน!D14 -> ม่วงศรี | E13: ='เดือน พ.ค. '!AJ12+'เดือน มิ.ย.'!AI13+'เดือน ก.ค. '!AJ12+'เดือน ส.ค.'!AJ13+'เดือน ก.ย.'!AI13+'เดือน ต.ค.'!AJ13 -> 100 | F13: ='เดือน พ.ค. '!AK12+'เดือน มิ.ย.'!AJ13+'เดือน ก.ค. '!AK12+'เดือน ส.ค.'!AK13+'เดือน ก.ย.'!AJ13+'เดือน ต.ค.'!AK13 -> 0 | G13: =E13+F13 -> 100 | H13: =(E13/G13)*100 -> 100 | I13: =IF(H13>=$D$59,"ผ่าน","ไม่ผ่าน") -> ผ่าน
A14: =ข้อมูลพื้นฐานนักเรียน!A15 -> 7 | B14: =ข้อมูลพื้นฐานนักเรียน!B15 -> เด็กชาย | C14: =ข้อมูลพื้นฐานนักเรียน!C15 -> ทศมล | D14: =ข้อมูลพื้นฐานนักเรียน!D15 -> ทิพพาวัน | E14: ='เดือน พ.ค. '!AJ13+'เดือน มิ.ย.'!AI14+'เดือน ก.ค. '!AJ13+'เดือน ส.ค.'!AJ14+'เดือน ก.ย.'!AI14+'เดือน ต.ค.'!AJ14 -> 100 | F14: ='เดือน พ.ค. '!AK13+'เดือน มิ.ย.'!AJ14+'เดือน ก.ค. '!AK13+'เดือน ส.ค.'!AK14+'เดือน ก.ย.'!AJ14+'เดือน ต.ค.'!AK14 -> 0 | G14: =E14+F14 -> 100 | H14: =(E14/G14)*100 -> 100 | I14: =IF(H14>=$D$59,"ผ่าน","ไม่ผ่าน") -> ผ่าน
A15: =ข้อมูลพื้นฐานนักเรียน!A16 -> 8 | B15: =ข้อมูลพื้นฐานนักเรียน!B16 -> เด็กชาย | C15: =ข้อมูลพื้นฐานนักเรียน!C16 -> ธนกฤต | D15: =ข้อมูลพื้นฐานนักเรียน!D16 -> รุ่งเรือง | E15: ='เดือน พ.ค. '!AJ14+'เดือน มิ.ย.'!AI15+'เดือน ก.ค. '!AJ14+'เดือน ส.ค.'!AJ15+'เดือน ก.ย.'!AI15+'เดือน ต.ค.'!AJ15 -> 100 | F15: ='เดือน พ.ค. '!AK14+'เดือน มิ.ย.'!AJ15+'เดือน ก.ค. '!AK14+'เดือน ส.ค.'!AK15+'เดือน ก.ย.'!AJ15+'เดือน ต.ค.'!AK15 -> 0 | G15: =E15+F15 -> 100 | H15: =(E15/G15)*100 -> 100 | I15: =IF(H15>=$D$59,"ผ่าน","ไม่ผ่าน") -> ผ่าน
A16: =ข้อมูลพื้นฐานนักเรียน!A17 -> 9 | B16: =ข้อมูลพื้นฐานนักเรียน!B17 -> เด็กชาย | C16: =ข้อมูลพื้นฐานนักเรียน!C17 -> เตชินท์ | D16: =ข้อมูลพื้นฐานนักเรียน!D17 -> สมบัติวงค์ | E16: ='เดือน พ.ค. '!AJ15+'เดือน มิ.ย.'!AI16+'เดือน ก.ค. '!AJ15+'เดือน ส.ค.'!AJ16+'เดือน ก.ย.'!AI16+'เดือน ต.ค.'!AJ16 -> 100 | F16: ='เดือน พ.ค. '!AK15+'เดือน มิ.ย.'!AJ16+'เดือน ก.ค. '!AK15+'เดือน ส.ค.'!AK16+'เดือน ก.ย.'!AJ16+'เดือน ต.ค.'!AK16 -> 0 | G16: =E16+F16 -> 100 | H16: =(E16/G16)*100 -> 100 | I16: =IF(H16>=$D$59,"ผ่าน","ไม่ผ่าน") -> ผ่าน
A17: =ข้อมูลพื้นฐานนักเรียน!A18 -> 10 | B17: =ข้อมูลพื้นฐานนักเรียน!B18 -> เด็กหญิง | C17: =ข้อมูลพื้นฐานนักเรียน!C18 -> สุจิณณา | D17: =ข้อมูลพื้นฐานนักเรียน!D18 -> ดีพร้อม | E17: ='เดือน พ.ค. '!AJ16+'เดือน มิ.ย.'!AI17+'เดือน ก.ค. '!AJ16+'เดือน ส.ค.'!AJ17+'เดือน ก.ย.'!AI17+'เดือน ต.ค.'!AJ17 -> 100 | F17: ='เดือน พ.ค. '!AK16+'เดือน มิ.ย.'!AJ17+'เดือน ก.ค. '!AK16+'เดือน ส.ค.'!AK17+'เดือน ก.ย.'!AJ17+'เดือน ต.ค.'!AK17 -> 0 | G17: =E17+F17 -> 100 | H17: =(E17/G17)*100 -> 100 | I17: =IF(H17>=$D$59,"ผ่าน","ไม่ผ่าน") -> ผ่าน
A18: =ข้อมูลพื้นฐานนักเรียน!A19 -> 11 | B18: =ข้อมูลพื้นฐานนักเรียน!B19 -> เด็กหญิง | C18: =ข้อมูลพื้นฐานนักเรียน!C19 -> ชนัญธิดา | D18: =ข้อมูลพื้นฐานนักเรียน!D19 -> สุวรรณวงค์ | E18: ='เดือน พ.ค. '!AJ17+'เดือน มิ.ย.'!AI18+'เดือน ก.ค. '!AJ17+'เดือน ส.ค.'!AJ18+'เดือน ก.ย.'!AI18+'เดือน ต.ค.'!AJ18 -> 100 | F18: ='เดือน พ.ค. '!AK17+'เดือน มิ.ย.'!AJ18+'เดือน ก.ค. '!AK17+'เดือน ส.ค.'!AK18+'เดือน ก.ย.'!AJ18+'เดือน ต.ค.'!AK18 -> 0 | G18: =E18+F18 -> 100 | H18: =(E18/G18)*100 -> 100 | I18: =IF(H18>=$D$59,"ผ่าน","ไม่ผ่าน") -> ผ่าน
A19: =ข้อมูลพื้นฐานนักเรียน!A20 -> 12 | B19: =ข้อมูลพื้นฐานนักเรียน!B20 -> เด็กหญิง | C19: =ข้อมูลพื้นฐานนักเรียน!C20 -> กชพร | D19: =ข้อมูลพื้นฐานนักเรียน!D20 -> สมนาค | E19: ='เดือน พ.ค. '!AJ18+'เดือน มิ.ย.'!AI19+'เดือน ก.ค. '!AJ18+'เดือน ส.ค.'!AJ19+'เดือน ก.ย.'!AI19+'เดือน ต.ค.'!AJ19 -> 100 | F19: ='เดือน พ.ค. '!AK18+'เดือน มิ.ย.'!AJ19+'เดือน ก.ค. '!AK18+'เดือน ส.ค.'!AK19+'เดือน ก.ย.'!AJ19+'เดือน ต.ค.'!AK19 -> 0 | G19: =E19+F19 -> 100 | H19: =(E19/G19)*100 -> 100 | I19: =IF(H19>=$D$59,"ผ่าน","ไม่ผ่าน") -> ผ่าน
... A37: =ข้อมูลพื้นฐานนักเรียน!A38 -> 30 | B37: =ข้อมูลพื้นฐานนักเรียน!B38 -> เด็กหญิง | C37: =ข้อมูลพื้นฐานนักเรียน!C38 -> ณัฐภัทร | D37: =ข้อมูลพื้นฐานนักเรียน!D38 -> นาคเหนือ | E37: ='เดือน พ.ค. '!AJ36+'เดือน มิ.ย.'!AI37+'เดือน ก.ค. '!AJ36+'เดือน ส.ค.'!AJ37+'เดือน ก.ย.'!AI37+'เดือน ต.ค.'!AJ37 -> 100 | F37: ='เดือน พ.ค. '!AK36+'เดือน มิ.ย.'!AJ37+'เดือน ก.ค. '!AK36+'เดือน ส.ค.'!AK37+'เดือน ก.ย.'!AJ37+'เดือน ต.ค.'!AK37 -> 0 | G37: =E37+F37 -> 100 | H37: =(E37/G37)*100 -> 100 | I37: =IF(H37>=$D$59,"ผ่าน","ไม่ผ่าน") -> ผ่าน
A38: =ข้อมูลพื้นฐานนักเรียน!A39 -> 31
A39: =ข้อมูลพื้นฐานนักเรียน!A40 -> 32
A40: =ข้อมูลพื้นฐานนักเรียน!A41 -> 33
A41: =ข้อมูลพื้นฐานนักเรียน!A42 -> 34
A42: =ข้อมูลพื้นฐานนักเรียน!A43 -> 35
A43: =ข้อมูลพื้นฐานนักเรียน!A44 -> 36
A44: =ข้อมูลพื้นฐานนักเรียน!A45 -> 37
A45: =ข้อมูลพื้นฐานนักเรียน!A46 -> 38
A46: =ข้อมูลพื้นฐานนักเรียน!A47 -> 39
A47: =ข้อมูลพื้นฐานนักเรียน!A48 -> 40
A48: =ข้อมูลพื้นฐานนักเรียน!A49 -> 41
A49: =ข้อมูลพื้นฐานนักเรียน!A50 -> 42
... A57: =ข้อมูลพื้นฐานนักเรียน!A58 -> 50
A59: หมายเหตุ | B59: ร้อยละการแปลงฟันที่ใช้ ในไฟล์นี้ = | D59: 80 | E59: (สามารถปรับได้)

Sheet เดือน พ.ย.
N1: บันทึกการดื่มนมและแปรงฟัน
K2: ประจำเดือน | P2: พฤศจิกายน | T2: พ.ศ. | W2: =AB3 -> 2568
F3: ชั้นประถมศึกษาที่ | M3: =ข้อมูลพื้นฐานนักเรียน!$C$3 -> 2/1 | O3: ภาคการเรียนที่ | U3: 2 | W3: ปีการศึกษา | AB3: =ข้อมูลพื้นฐานนักเรียน!$C$5 -> 2568
L4: โรงเรียน | P4: =ข้อมูลพื้นฐานนักเรียน!$C$2 -> จารุศรบำรุง
A6: เลขที่ | B6: ชื่อ-สกุล | E6: วันที่ | AI6: รวม
E7: 1 | F7: 2 | G7: 3 | H7: 4 | I7: 5 | J7: 6 | K7: 7 | L7: 8 | M7: 9 | N7: 10 | O7: 11 | P7: 12 | Q7: 13 | R7: 14 | S7: 15 | T7: 16 | U7: 17 | V7: 18 | W7: 19 | X7: 20 | Y7: 21 | Z7: 22 | AA7: 23 | AB7: 24 | AC7: 25 | AD7: 26 | AE7: 27 | AF7: 28 | AG7: 29 | AH7: 30 | AI7: ดื่มและแปรงฟัน | AJ7: ไม่ดื่มและไม่แปรงฟัน
A8: =ข้อมูลพื้นฐานนักเรียน!A9 -> 1 | B8: =ข้อมูลพื้นฐานนักเรียน!B9 -> เด็กชาย | C8: =ข้อมูลพื้นฐานนักเรียน!C9 -> ภาคภูมิ | D8: =ข้อมูลพื้นฐานนักเรียน!D9 -> สิงห์สา | G8: / | H8: x | I8: x | J8: x | K8: x | N8: / | O8: / | P8: / | Q8: x | R8: / | U8: / | V8: / | W8: x | X8: / | Y8: x | AB8: / | AC8: x | AD8: x | AE8: x | AF8: x | AI8: =COUNTIF(E8:AH8,"/") -> 9 | AJ8: =COUNTIF(E8:AH8,"x") -> 11
A9: =ข้อมูลพื้นฐานนักเรียน!A10 -> 2 | B9: =ข้อมูลพื้นฐานนักเรียน!B10 -> เด็กชาย | C9: =ข้อมูลพื้นฐานนักเรียน!C10 -> จิรกร | D9: =ข้อมูลพื้นฐานนักเรียน!D10 -> คำประสงค์ | G9: / | H9: / | I9: / | J9: / | K9: / | N9: / | O9: / | P9: / | Q9: / | R9: / | U9: / | V9: / | W9: / | X9: / | Y9: / | AB9: / | AC9: / | AD9: / | AE9: / | AF9: / | AI9: =COUNTIF(E9:AH9,"/") -> 20 | AJ9: =COUNTIF(E9:AH9,"x") -> 0
A10: =ข้อมูลพื้นฐานนักเรียน!A11 -> 3 | B10: =ข้อมูลพื้นฐานนักเรียน!B11 -> เด็กชาย | C10: =ข้อมูลพื้นฐานนักเรียน!C11 -> กันฑ์ภวัต | D10: =ข้อมูลพื้นฐานนักเรียน!D11 -> กำจัดภัย | G10: / | H10: / | I10: / | J10: / | K10: / | N10: / | O10: / | P10: / | Q10: / | R10: / | U10: / | V10: / | W10: / | X10: / | Y10: / | AB10: / | AC10: / | AD10: / | AE10: / | AF10: / | AI10: =COUNTIF(E10:AH10,"/") -> 20 | AJ10: =COUNTIF(E10:AH10,"x") -> 0
A11: =ข้อมูลพื้นฐานนักเรียน!A12 -> 4 | B11: =ข้อมูลพื้นฐานนักเรียน!B12 -> เด็กชาย | C11: =ข้อมูลพื้นฐานนักเรียน!C12 -> สินอนันต์ | D11: =ข้อมูลพื้นฐานนักเรียน!D12 -> ชินคำ | G11: / | H11: / | I11: / | J11: / | K11: / | N11: / | O11: / | P11: / | Q11: / | R11: / | U11: / | V11: / | W11: / | X11: / | Y11: / | AB11: / | AC11: / | AD11: / | AE11: / | AF11: / | AI11: =COUNTIF(E11:AH11,"/") -> 20 | AJ11: =COUNTIF(E11:AH11,"x") -> 0
A12: =ข้อมูลพื้นฐานนักเรียน!A13 -> 5 | B12: =ข้อมูลพื้นฐานนักเรียน!B13 -> เด็กชาย | C12: =ข้อมูลพื้นฐานนักเรียน!C13 -> ชนัดพล | D12: =ข้อมูลพื้นฐานนักเรียน!D13 -> ปิ่นนาค | G12: / | H12: / | I12: / | J12: / | K12: / | N12: / | O12: / | P12: / | Q12: / | R12: / | U12: / | V12: / | W12: / | X12: / | Y12: / | AB12: / | AC12: / | AD12: / | AE12: / | AF12: / | AI12: =COUNTIF(E12:AH12,"/") -> 20 | AJ12: =COUNTIF(E12:AH12,"x") -> 0
A13: =ข้อมูลพื้นฐานนักเรียน!A14 -> 6 | B13: =ข้อมูลพื้นฐานนักเรียน!B14 -> เด็กชาย | C13: =ข้อมูลพื้นฐานนักเรียน!C14 -> ชัยภัทร | D13: =ข้อมูลพื้นฐานนักเรียน!D14 -> ม่วงศรี | G13: / | H13: / | I13: / | J13: / | K13: / | N13: / | O13: / | P13: / | Q13: / | R13: / | U13: / | V13: / | W13: / | X13: / | Y13: / | AB13: / | AC13: / | AD13: / | AE13: / | AF13: / | AI13: =COUNTIF(E13:AH13,"/") -> 20 | AJ13: =COUNTIF(E13:AH13,"x") -> 0
A14: =ข้อมูลพื้นฐานนักเรียน!A15 -> 7 | B14: =ข้อมูลพื้นฐานนักเรียน!B15 -> เด็กชาย | C14: =ข้อมูลพื้นฐานนักเรียน!C15 -> ทศมล | D14: =ข้อมูลพื้นฐานนักเรียน!D15 -> ทิพพาวัน | G14: / | H14: / | I14: / | J14: / | K14: / | N14: / | O14: / | P14: / | Q14: / | R14: / | U14: / | V14: / | W14: / | X14: / | Y14: / | AB14: / | AC14: / | AD14: / | AE14: / | AF14: / | AI14: =COUNTIF(E14:AH14,"/") -> 20 | AJ14: =COUNTIF(E14:AH14,"x") -> 0
A15: =ข้อมูลพื้นฐานนักเรียน!A16 -> 8 | B15: =ข้อมูลพื้นฐานนักเรียน!B16 -> เด็กชาย | C15: =ข้อมูลพื้นฐานนักเรียน!C16 -> ธนกฤต | D15: =ข้อมูลพื้นฐานนักเรียน!D16 -> รุ่งเรือง | G15: / | H15: / | I15: / | J15: / | K15: / | N15: / | O15: / | P15: / | Q15: / | R15: / | U15: / | V15: / | W15: / | X15: / | Y15: / | AB15: / | AC15: / | AD15: / | AE15: / | AF15: / | AI15: =COUNTIF(E15:AH15,"/") -> 20 | AJ15: =COUNTIF(E15:AH15,"x") -> 0
A16: =ข้อมูลพื้นฐานนักเรียน!A17 -> 9 | B16: =ข้อมูลพื้นฐานนักเรียน!B17 -> เด็กชาย | C16: =ข้อมูลพื้นฐานนักเรียน!C17 -> เตชินท์ | D16: =ข้อมูลพื้นฐานนักเรียน!D17 -> สมบัติวงค์ | G16: / | H16: / | I16: / | J16: / | K16: / | N16: / | O16: / | P16: / | Q16: / | R16: / | U16: / | V16: / | W16: / | X16: / | Y16: / | AB16: / | AC16: / | AD16: / | AE16: / | AF16: / | AI16: =COUNTIF(E16:AH16,"/") -> 20 | AJ16: =COUNTIF(E16:AH16,"x") -> 0
A17: =ข้อมูลพื้นฐานนักเรียน!A18 -> 10 | B17: =ข้อมูลพื้นฐานนักเรียน!B18 -> เด็กหญิง | C17: =ข้อมูลพื้นฐานนักเรียน!C18 -> สุจิณณา | D17: =ข้อมูลพื้นฐานนักเรียน!D18 -> ดีพร้อม | G17: / | H17: / | I17: / | J17: / | K17: / | N17: / | O17: / | P17: / | Q17: / | R17: / | U17: / | V17: / | W17: / | X17: / | Y17: / | AB17: / | AC17: / | AD17: / | AE17: / | AF17: / | AI17: =COUNTIF(E17:AH17,"/") -> 20 | AJ17: =COUNTIF(E17:AH17,"x") -> 0
A18: =ข้อมูลพื้นฐานนักเรียน!A19 -> 11 | B18: =ข้อมูลพื้นฐานนักเรียน!B19 -> เด็กหญิง | C18: =ข้อมูลพื้นฐานนักเรียน!C19 -> ชนัญธิดา | D18: =ข้อมูลพื้นฐานนักเรียน!D19 -> สุวรรณวงค์ | G18: / | H18: / | I18: / | J18: / | K18: / | N18: / | O18: / | P18: / | Q18: / | R18: / | U18: / | V18: / | W18: / | X18: / | Y18: / | AB18: / | AC18: / | AD18: / | AE18: / | AF18: / | AI18: =COUNTIF(E18:AH18,"/") -> 20 | AJ18: =COUNTIF(E18:AH18,"x") -> 0
A19: =ข้อมูลพื้นฐานนักเรียน!A20 -> 12 | B19: =ข้อมูลพื้นฐานนักเรียน!B20 -> เด็กหญิง | C19: =ข้อมูลพื้นฐานนักเรียน!C20 -> กชพร | D19: =ข้อมูลพื้นฐานนักเรียน!D20 -> สมนาค | G19: / | H19: / | I19: / | J19: / | K19: / | N19: / | O19: / | P19: / | Q19: / | R19: / | U19: / | V19: / | W19: / | X19: / | Y19: / | AB19: / | AC19: / | AD19: / | AE19: / | AF19: / | AI19: =COUNTIF(E19:AH19,"/") -> 20 | AJ19: =COUNTIF(E19:AH19,"x") -> 0
... A37: =ข้อมูลพื้นฐานนักเรียน!A38 -> 30 | B37: =ข้อมูลพื้นฐานนักเรียน!B38 -> เด็กหญิง | C37: =ข้อมูลพื้นฐานนักเรียน!C38 -> ณัฐภัทร | D37: =ข้อมูลพื้นฐานนักเรียน!D38 -> นาคเหนือ | G37: / | H37: / | I37: / | J37: / | K37: / | N37: / | O37: / | P37: / | Q37: / | R37: / | U37: / | V37: / | W37: / | X37: / | Y37: / | AB37: / | AC37: / | AD37: / | AE37: / | AF37: / | AI37: =COUNTIF(E37:AH37,"/") -> 20 | AJ37: =COUNTIF(E37:AH37,"x") -> 0
A38: =ข้อมูลพื้นฐานนักเรียน!A39 -> 31
A39: =ข้อมูลพื้นฐานนักเรียน!A40 -> 32
A40: =ข้อมูลพื้นฐานนักเรียน!A41 -> 33
A41: =ข้อมูลพื้นฐานนักเรียน!A42 -> 34
A42: =ข้อมูลพื้นฐานนักเรียน!A43 -> 35
A43: =ข้อมูลพื้นฐานนักเรียน!A44 -> 36
A44: =ข้อมูลพื้นฐานนักเรียน!A45 -> 37
A45: =ข้อมูลพื้นฐานนักเรียน!A46 -> 38
A46: =ข้อมูลพื้นฐานนักเรียน!A47 -> 39
A47: =ข้อมูลพื้นฐานนักเรียน!A48 -> 40
A48: =ข้อมูลพื้นฐานนักเรียน!A49 -> 41
A49: =ข้อมูลพื้นฐานนักเรียน!A50 -> 42
... A57: =ข้อมูลพื้นฐานนักเรียน!A58 -> 50
G59: ...................................................................... | Z59: .......................................................
G60: ( ) | Z60: (นางสุชาวดี สุทธิวานิช)
G61: ครูประจำชั้น | Z61: ผู้อำนวยการโรงเรียน

Sheet เดือน ธ.ค.
N1: บันทึกการดื่มนมและแปรงฟัน
K2: ประจำเดือน | P2: ธันวาคม | T2: พ.ศ. | W2: =AB3 -> 2568
F3: ชั้นประถมศึกษาที่ | M3: =ข้อมูลพื้นฐานนักเรียน!$C$3 -> 2/1 | O3: ภาคการเรียนที่ | U3: 2 | W3: ปีการศึกษา | AB3: =ข้อมูลพื้นฐานนักเรียน!$C$5 -> 2568
L4: โรงเรียน | P4: =ข้อมูลพื้นฐานนักเรียน!$C$2 -> จารุศรบำรุง
A6: เลขที่ | B6: ชื่อ-สกุล | E6: วันที่ | AJ6: รวม
E7: 1 | F7: 2 | G7: 3 | H7: 4 | I7: 5 | J7: 6 | K7: 7 | L7: 8 | M7: 9 | N7: 10 | O7: 11 | P7: 12 | Q7: 13 | R7: 14 | S7: 15 | T7: 16 | U7: 17 | V7: 18 | W7: 19 | X7: 20 | Y7: 21 | Z7: 22 | AA7: 23 | AB7: 24 | AC7: 25 | AD7: 26 | AE7: 27 | AF7: 28 | AG7: 29 | AH7: 30 | AI7: 31 | AJ7: ดื่มและแปรงฟัน | AK7: ไม่ดื่มและแปรงฟัน
A8: =ข้อมูลพื้นฐานนักเรียน!A9 -> 1 | B8: =ข้อมูลพื้นฐานนักเรียน!B9 -> เด็กชาย | C8: =ข้อมูลพื้นฐานนักเรียน!C9 -> ภาคภูมิ | D8: =ข้อมูลพื้นฐานนักเรียน!D9 -> สิงห์สา | E8: / | F8: / | G8: / | H8: / | I8: วันคล้ายวันพระบรมราชสมภพ ร.9 วันชาติ และวันพ่อแห่งชาติ | L8: / | M8: / | N8: วันรัฐธรรมนูญ | O8: / | P8: / | S8: / | T8: / | U8: x | V8: / | W8: / | Z8: / | AA8: / | AB8: x | AC8: / | AD8: x | AG8: / | AH8: x | AI8: วันสิ้นปี | AJ8: =COUNTIF(E8:AI8,"/") -> 16 | AK8: =COUNTIF(E8:AH8,"x") -> 4
A9: =ข้อมูลพื้นฐานนักเรียน!A10 -> 2 | B9: =ข้อมูลพื้นฐานนักเรียน!B10 -> เด็กชาย | C9: =ข้อมูลพื้นฐานนักเรียน!C10 -> จิรกร | D9: =ข้อมูลพื้นฐานนักเรียน!D10 -> คำประสงค์ | E9: / | F9: / | G9: / | H9: / | L9: / | M9: / | O9: / | P9: / | S9: / | T9: / | U9: / | V9: / | W9: / | Z9: / | AA9: / | AB9: / | AC9: / | AD9: / | AG9: / | AH9: / | AJ9: =COUNTIF(E9:AI9,"/") -> 20 | AK9: =COUNTIF(E9:AH9,"x") -> 0
A10: =ข้อมูลพื้นฐานนักเรียน!A11 -> 3 | B10: =ข้อมูลพื้นฐานนักเรียน!B11 -> เด็กชาย | C10: =ข้อมูลพื้นฐานนักเรียน!C11 -> กันฑ์ภวัต | D10: =ข้อมูลพื้นฐานนักเรียน!D11 -> กำจัดภัย | E10: / | F10: / | G10: / | H10: / | L10: / | M10: / | O10: / | P10: / | S10: / | T10: / | U10: / | V10: / | W10: / | Z10: / | AA10: / | AB10: / | AC10: / | AD10: / | AG10: / | AH10: / | AJ10: =COUNTIF(E10:AI10,"/") -> 20 | AK10: =COUNTIF(E10:AH10,"x") -> 0
A11: =ข้อมูลพื้นฐานนักเรียน!A12 -> 4 | B11: =ข้อมูลพื้นฐานนักเรียน!B12 -> เด็กชาย | C11: =ข้อมูลพื้นฐานนักเรียน!C12 -> สินอนันต์ | D11: =ข้อมูลพื้นฐานนักเรียน!D12 -> ชินคำ | E11: / | F11: / | G11: / | H11: / | L11: / | M11: / | O11: / | P11: / | S11: / | T11: / | U11: / | V11: / | W11: / | Z11: / | AA11: / | AB11: / | AC11: / | AD11: / | AG11: / | AH11: / | AJ11: =COUNTIF(E11:AI11,"/") -> 20 | AK11: =COUNTIF(E11:AH11,"x") -> 0
A12: =ข้อมูลพื้นฐานนักเรียน!A13 -> 5 | B12: =ข้อมูลพื้นฐานนักเรียน!B13 -> เด็กชาย | C12: =ข้อมูลพื้นฐานนักเรียน!C13 -> ชนัดพล | D12: =ข้อมูลพื้นฐานนักเรียน!D13 -> ปิ่นนาค | E12: / | F12: / | G12: / | H12: / | L12: / | M12: / | O12: / | P12: / | S12: / | T12: / | U12: / | V12: / | W12: / | Z12: / | AA12: / | AB12: / | AC12: / | AD12: / | AG12: / | AH12: / | AJ12: =COUNTIF(E12:AI12,"/") -> 20 | AK12: =COUNTIF(E12:AH12,"x") -> 0
A13: =ข้อมูลพื้นฐานนักเรียน!A14 -> 6 | B13: =ข้อมูลพื้นฐานนักเรียน!B14 -> เด็กชาย | C13: =ข้อมูลพื้นฐานนักเรียน!C14 -> ชัยภัทร | D13: =ข้อมูลพื้นฐานนักเรียน!D14 -> ม่วงศรี | E13: / | F13: / | G13: / | H13: / | L13: / | M13: / | O13: / | P13: / | S13: / | T13: / | U13: / | V13: / | W13: / | Z13: / | AA13: / | AB13: / | AC13: / | AD13: / | AG13: / | AH13: / | AJ13: =COUNTIF(E13:AI13,"/") -> 20 | AK13: =COUNTIF(E13:AH13,"x") -> 0
A14: =ข้อมูลพื้นฐานนักเรียน!A15 -> 7 | B14: =ข้อมูลพื้นฐานนักเรียน!B15 -> เด็กชาย | C14: =ข้อมูลพื้นฐานนักเรียน!C15 -> ทศมล | D14: =ข้อมูลพื้นฐานนักเรียน!D15 -> ทิพพาวัน | E14: / | F14: / | G14: / | H14: / | L14: / | M14: / | O14: / | P14: / | S14: / | T14: / | U14: / | V14: / | W14: / | Z14: / | AA14: / | AB14: / | AC14: / | AD14: / | AG14: / | AH14: / | AJ14: =COUNTIF(E14:AI14,"/") -> 20 | AK14: =COUNTIF(E14:AH14,"x") -> 0
A15: =ข้อมูลพื้นฐานนักเรียน!A16 -> 8 | B15: =ข้อมูลพื้นฐานนักเรียน!B16 -> เด็กชาย | C15: =ข้อมูลพื้นฐานนักเรียน!C16 -> ธนกฤต | D15: =ข้อมูลพื้นฐานนักเรียน!D16 -> รุ่งเรือง | E15: / | F15: / | G15: / | H15: / | L15: / | M15: / | O15: / | P15: / | S15: / | T15: / | U15: / | V15: / | W15: / | Z15: / | AA15: / | AB15: / | AC15: / | AD15: / | AG15: / | AH15: / | AJ15: =COUNTIF(E15:AI15,"/") -> 20 | AK15: =COUNTIF(E15:AH15,"x") -> 0
A16: =ข้อมูลพื้นฐานนักเรียน!A17 -> 9 | B16: =ข้อมูลพื้นฐานนักเรียน!B17 -> เด็กชาย | C16: =ข้อมูลพื้นฐานนักเรียน!C17 -> เตชินท์ | D16: =ข้อมูลพื้นฐานนักเรียน!D17 -> สมบัติวงค์ | E16: / | F16: / | G16: / | H16: / | L16: / | M16: / | O16: / | P16: / | S16: / | T16: / | U16: / | V16: / | W16: / | Z16: / | AA16: / | AB16: / | AC16: / | AD16: / | AG16: / | AH16: / | AJ16: =COUNTIF(E16:AI16,"/") -> 20 | AK16: =COUNTIF(E16:AH16,"x") -> 0
A17: =ข้อมูลพื้นฐานนักเรียน!A18 -> 10 | B17: =ข้อมูลพื้นฐานนักเรียน!B18 -> เด็กหญิง | C17: =ข้อมูลพื้นฐานนักเรียน!C18 -> สุจิณณา | D17: =ข้อมูลพื้นฐานนักเรียน!D18 -> ดีพร้อม | E17: / | F17: / | G17: / | H17: / | L17: / | M17: / | O17: / | P17: / | S17: / | T17: / | U17: / | V17: / | W17: / | Z17: / | AA17: / | AB17: / | AC17: / | AD17: / | AG17: / | AH17: / | AJ17: =COUNTIF(E17:AI17,"/") -> 20 | AK17: =COUNTIF(E17:AH17,"x") -> 0
A18: =ข้อมูลพื้นฐานนักเรียน!A19 -> 11 | B18: =ข้อมูลพื้นฐานนักเรียน!B19 -> เด็กหญิง | C18: =ข้อมูลพื้นฐานนักเรียน!C19 -> ชนัญธิดา | D18: =ข้อมูลพื้นฐานนักเรียน!D19 -> สุวรรณวงค์ | E18: / | F18: / | G18: / | H18: / | L18: / | M18: / | O18: / | P18: / | S18: / | T18: / | U18: / | V18: / | W18: / | Z18: / | AA18: / | AB18: / | AC18: / | AD18: / | AG18: / | AH18: / | AJ18: =COUNTIF(E18:AI18,"/") -> 20 | AK18: =COUNTIF(E18:AH18,"x") -> 0
A19: =ข้อมูลพื้นฐานนักเรียน!A20 -> 12 | B19: =ข้อมูลพื้นฐานนักเรียน!B20 -> เด็กหญิง | C19: =ข้อมูลพื้นฐานนักเรียน!C20 -> กชพร | D19: =ข้อมูลพื้นฐานนักเรียน!D20 -> สมนาค | E19: / | F19: / | G19: / | H19: / | L19: / | M19: / | O19: / | P19: / | S19: / | T19: / | U19: / | V19: / | W19: / | Z19: / | AA19: / | AB19: / | AC19: / | AD19: / | AG19: / | AH19: / | AJ19: =COUNTIF(E19:AI19,"/") -> 20 | AK19: =COUNTIF(E19:AH19,"x") -> 0
A20: =ข้อมูลพื้นฐานนักเรียน!A21 -> 13 | B20: =ข้อมูลพื้นฐานนักเรียน!B21 -> เด็กหญิง | C20: =ข้อมูลพื้นฐานนักเรียน!C21 -> จิรัญญา | D20: =ข้อมูลพื้นฐานนักเรียน!D21 -> เกลี้ยงพร้อม | E20: / | F20: / | G20: / | H20: / | L20: / | M20: / | O20: / | P20: / | S20: / | T20: / | U20: / | V20: / | W20: / | Z20: / | AA20: / | AB20: / | AC20: / | AD20: / | AG20: / | AH20: / | AJ20: =COUNTIF(E20:AI20,"/") -> 20 | AK20: =COUNTIF(E20:AH20,"x") -> 0
... A37: =ข้อมูลพื้นฐานนักเรียน!A38 -> 30 | B37: =ข้อมูลพื้นฐานนักเรียน!B38 -> เด็กหญิง | C37: =ข้อมูลพื้นฐานนักเรียน!C38 -> ณัฐภัทร | D37: =ข้อมูลพื้นฐานนักเรียน!D38 -> นาคเหนือ | E37: / | F37: / | G37: / | H37: / | L37: / | M37: / | O37: / | P37: / | S37: / | T37: / | U37: / | V37: / | W37: / | Z37: / | AA37: / | AB37: / | AC37: / | AD37: / | AG37: / | AH37: / | AJ37: =COUNTIF(E37:AI37,"/") -> 20 | AK37: =COUNTIF(E37:AH37,"x") -> 0
A38: =ข้อมูลพื้นฐานนักเรียน!A39 -> 31
A39: =ข้อมูลพื้นฐานนักเรียน!A40 -> 32
A40: =ข้อมูลพื้นฐานนักเรียน!A41 -> 33
A41: =ข้อมูลพื้นฐานนักเรียน!A42 -> 34
A42: =ข้อมูลพื้นฐานนักเรียน!A43 -> 35
A43: =ข้อมูลพื้นฐานนักเรียน!A44 -> 36
A44: =ข้อมูลพื้นฐานนักเรียน!A45 -> 37
A45: =ข้อมูลพื้นฐานนักเรียน!A46 -> 38
A46: =ข้อมูลพื้นฐานนักเรียน!A47 -> 39
A47: =ข้อมูลพื้นฐานนักเรียน!A48 -> 40
A48: =ข้อมูลพื้นฐานนักเรียน!A49 -> 41
A49: =ข้อมูลพื้นฐานนักเรียน!A50 -> 42
... A57: =ข้อมูลพื้นฐานนักเรียน!A58 -> 50
H59: ...................................................................... | AA59: .......................................................
H60: ( ) | AA60: (นางสุชาวดี สุทธิวานิช)
H61: ครูประจำชั้น | AA61: ผู้อำนวยการโรงเรียน

Sheet เดือน ม.ค.
N1: บันทึกการดื่มนมและแปรงฟัน
K2: ประจำเดือน | P2: มกราคม | T2: พ.ศ. | W2: =AB3+1 -> 2569
F3: ชั้นประถมศึกษาที่ | M3: =ข้อมูลพื้นฐานนักเรียน!$C$3 -> 2/1 | O3: ภาคการเรียนที่ | U3: 2 | W3: ปีการศึกษา | AB3: =ข้อมูลพื้นฐานนักเรียน!$C$5 -> 2568
L4: โรงเรียน | P4: =ข้อมูลพื้นฐานนักเรียน!$C$2 -> จารุศรบำรุง
A6: เลขที่ | B6: ชื่อ-สกุล | E6: วันที่ | AJ6: รวม
E7: 1 | F7: 2 | G7: 3 | H7: 4 | I7: 5 | J7: 6 | K7: 7 | L7: 8 | M7: 9 | N7: 10 | O7: 11 | P7: 12 | Q7: 13 | R7: 14 | S7: 15 | T7: 16 | U7: 17 | V7: 18 | W7: 19 | X7: 20 | Y7: 21 | Z7: 22 | AA7: 23 | AB7: 24 | AC7: 25 | AD7: 26 | AE7: 27 | AF7: 28 | AG7: 29 | AH7: 30 | AI7: 31 | AJ7: ดื่มนมและแปรงฟัน | AK7: ไม่ดื่มและไม่แปรงฟัน
A8: =ข้อมูลพื้นฐานนักเรียน!A9 -> 1 | B8: =ข้อมูลพื้นฐานนักเรียน!B9 -> เด็กชาย | C8: =ข้อมูลพื้นฐานนักเรียน!C9 -> ภาคภูมิ | D8: =ข้อมูลพื้นฐานนักเรียน!D9 -> สิงห์สา | E8: วันขึ้นปีใหม่ | F8: วันหยุดราชการพิเศษ | I8: / | J8: / | K8: / | L8: / | M8: / | P8: / | Q8: / | R8: / | S8: / | T8: วันครู | W8: / | X8: / | Y8: x | Z8: / | AA8: x | AD8: / | AE8: x | AF8: / | AG8: / | AH8: x | AJ8: =COUNTIF(E8:AI8,"/") -> 15 | AK8: =COUNTIF(E8:AI8,"x") -> 4
A9: =ข้อมูลพื้นฐานนักเรียน!A10 -> 2 | B9: =ข้อมูลพื้นฐานนักเรียน!B10 -> เด็กชาย | C9: =ข้อมูลพื้นฐานนักเรียน!C10 -> จิรกร | D9: =ข้อมูลพื้นฐานนักเรียน!D10 -> คำประสงค์ | I9: / | J9: / | K9: / | L9: / | M9: / | P9: / | Q9: / | R9: / | S9: / | W9: / | X9: / | Y9: / | Z9: / | AA9: / | AD9: / | AE9: / | AF9: / | AG9: / | AH9: / | AJ9: =COUNTIF(E9:AI9,"/") -> 19 | AK9: =COUNTIF(E9:AI9,"x") -> 0
A10: =ข้อมูลพื้นฐานนักเรียน!A11 -> 3 | B10: =ข้อมูลพื้นฐานนักเรียน!B11 -> เด็กชาย | C10: =ข้อมูลพื้นฐานนักเรียน!C11 -> กันฑ์ภวัต | D10: =ข้อมูลพื้นฐานนักเรียน!D11 -> กำจัดภัย | I10: / | J10: / | K10: / | L10: / | M10: / | P10: / | Q10: / | R10: / | S10: / | W10: / | X10: / | Y10: / | Z10: / | AA10: / | AD10: / | AE10: / | AF10: / | AG10: / | AH10: / | AJ10: =COUNTIF(E10:AI10,"/") -> 19 | AK10: =COUNTIF(E10:AI10,"x") -> 0
A11: =ข้อมูลพื้นฐานนักเรียน!A12 -> 4 | B11: =ข้อมูลพื้นฐานนักเรียน!B12 -> เด็กชาย | C11: =ข้อมูลพื้นฐานนักเรียน!C12 -> สินอนันต์ | D11: =ข้อมูลพื้นฐานนักเรียน!D12 -> ชินคำ | I11: / | J11: / | K11: / | L11: / | M11: / | P11: / | Q11: / | R11: / | S11: / | W11: / | X11: / | Y11: / | Z11: / | AA11: / | AD11: / | AE11: / | AF11: / | AG11: / | AH11: / | AJ11: =COUNTIF(E11:AI11,"/") -> 19 | AK11: =COUNTIF(E11:AI11,"x") -> 0
A12: =ข้อมูลพื้นฐานนักเรียน!A13 -> 5 | B12: =ข้อมูลพื้นฐานนักเรียน!B13 -> เด็กชาย | C12: =ข้อมูลพื้นฐานนักเรียน!C13 -> ชนัดพล | D12: =ข้อมูลพื้นฐานนักเรียน!D13 -> ปิ่นนาค | I12: / | J12: / | K12: / | L12: / | M12: / | P12: / | Q12: / | R12: / | S12: / | W12: / | X12: / | Y12: / | Z12: / | AA12: / | AD12: / | AE12: / | AF12: / | AG12: / | AH12: / | AJ12: =COUNTIF(E12:AI12,"/") -> 19 | AK12: =COUNTIF(E12:AI12,"x") -> 0
A13: =ข้อมูลพื้นฐานนักเรียน!A14 -> 6 | B13: =ข้อมูลพื้นฐานนักเรียน!B14 -> เด็กชาย | C13: =ข้อมูลพื้นฐานนักเรียน!C14 -> ชัยภัทร | D13: =ข้อมูลพื้นฐานนักเรียน!D14 -> ม่วงศรี | I13: / | J13: / | K13: / | L13: / | M13: / | P13: / | Q13: / | R13: / | S13: / | W13: / | X13: / | Y13: / | Z13: / | AA13: / | AD13: / | AE13: / | AF13: / | AG13: / | AH13: / | AJ13: =COUNTIF(E13:AI13,"/") -> 19 | AK13: =COUNTIF(E13:AI13,"x") -> 0
A14: =ข้อมูลพื้นฐานนักเรียน!A15 -> 7 | B14: =ข้อมูลพื้นฐานนักเรียน!B15 -> เด็กชาย | C14: =ข้อมูลพื้นฐานนักเรียน!C15 -> ทศมล | D14: =ข้อมูลพื้นฐานนักเรียน!D15 -> ทิพพาวัน | I14: / | J14: / | K14: / | L14: / | M14: / | P14: / | Q14: / | R14: / | S14: / | W14: / | X14: / | Y14: / | Z14: / | AA14: / | AD14: / | AE14: / | AF14: / | AG14: / | AH14: / | AJ14: =COUNTIF(E14:AI14,"/") -> 19 | AK14: =COUNTIF(E14:AI14,"x") -> 0
A15: =ข้อมูลพื้นฐานนักเรียน!A16 -> 8 | B15: =ข้อมูลพื้นฐานนักเรียน!B16 -> เด็กชาย | C15: =ข้อมูลพื้นฐานนักเรียน!C16 -> ธนกฤต | D15: =ข้อมูลพื้นฐานนักเรียน!D16 -> รุ่งเรือง | I15: / | J15: / | K15: / | L15: / | M15: / | P15: / | Q15: / | R15: / | S15: / | W15: / | X15: / | Y15: / | Z15: / | AA15: / | AD15: / | AE15: / | AF15: / | AG15: / | AH15: / | AJ15: =COUNTIF(E15:AI15,"/") -> 19 | AK15: =COUNTIF(E15:AI15,"x") -> 0
A16: =ข้อมูลพื้นฐานนักเรียน!A17 -> 9 | B16: =ข้อมูลพื้นฐานนักเรียน!B17 -> เด็กชาย | C16: =ข้อมูลพื้นฐานนักเรียน!C17 -> เตชินท์ | D16: =ข้อมูลพื้นฐานนักเรียน!D17 -> สมบัติวงค์ | I16: / | J16: / | K16: / | L16: / | M16: / | P16: / | Q16: / | R16: / | S16: / | W16: / | X16: / | Y16: / | Z16: / | AA16: / | AD16: / | AE16: / | AF16: / | AG16: / | AH16: / | AJ16: =COUNTIF(E16:AI16,"/") -> 19 | AK16: =COUNTIF(E16:AI16,"x") -> 0
A17: =ข้อมูลพื้นฐานนักเรียน!A18 -> 10 | B17: =ข้อมูลพื้นฐานนักเรียน!B18 -> เด็กหญิง | C17: =ข้อมูลพื้นฐานนักเรียน!C18 -> สุจิณณา | D17: =ข้อมูลพื้นฐานนักเรียน!D18 -> ดีพร้อม | I17: / | J17: / | K17: / | L17: / | M17: / | P17: / | Q17: / | R17: / | S17: / | W17: / | X17: / | Y17: / | Z17: / | AA17: / | AD17: / | AE17: / | AF17: / | AG17: / | AH17: / | AJ17: =COUNTIF(E17:AI17,"/") -> 19 | AK17: =COUNTIF(E17:AI17,"x") -> 0
A18: =ข้อมูลพื้นฐานนักเรียน!A19 -> 11 | B18: =ข้อมูลพื้นฐานนักเรียน!B19 -> เด็กหญิง | C18: =ข้อมูลพื้นฐานนักเรียน!C19 -> ชนัญธิดา | D18: =ข้อมูลพื้นฐานนักเรียน!D19 -> สุวรรณวงค์ | I18: / | J18: / | K18: / | L18: / | M18: / | P18: / | Q18: / | R18: / | S18: / | W18: / | X18: / | Y18: / | Z18: / | AA18: / | AD18: / | AE18: / | AF18: / | AG18: / | AH18: / | AJ18: =COUNTIF(E18:AI18,"/") -> 19 | AK18: =COUNTIF(E18:AI18,"x") -> 0
A19: =ข้อมูลพื้นฐานนักเรียน!A20 -> 12 | B19: =ข้อมูลพื้นฐานนักเรียน!B20 -> เด็กหญิง | C19: =ข้อมูลพื้นฐานนักเรียน!C20 -> กชพร | D19: =ข้อมูลพื้นฐานนักเรียน!D20 -> สมนาค | I19: / | J19: / | K19: / | L19: / | M19: / | P19: / | Q19: / | R19: / | S19: / | W19: / | X19: / | Y19: / | Z19: / | AA19: / | AD19: / | AE19: / | AF19: / | AG19: / | AH19: / | AJ19: =COUNTIF(E19:AI19,"/") -> 19 | AK19: =COUNTIF(E19:AI19,"x") -> 0
A20: =ข้อมูลพื้นฐานนักเรียน!A21 -> 13 | B20: =ข้อมูลพื้นฐานนักเรียน!B21 -> เด็กหญิง | C20: =ข้อมูลพื้นฐานนักเรียน!C21 -> จิรัญญา | D20: =ข้อมูลพื้นฐานนักเรียน!D21 -> เกลี้ยงพร้อม | I20: / | J20: / | K20: / | L20: / | M20: / | P20: / | Q20: / | R20: / | S20: / | W20: / | X20: / | Y20: / | Z20: / | AA20: / | AD20: / | AE20: / | AF20: / | AG20: / | AH20: / | AJ20: =COUNTIF(E20:AI20,"/") -> 19 | AK20: =COUNTIF(E20:AI20,"x") -> 0
... A37: =ข้อมูลพื้นฐานนักเรียน!A38 -> 30 | B37: =ข้อมูลพื้นฐานนักเรียน!B38 -> เด็กหญิง | C37: =ข้อมูลพื้นฐานนักเรียน!C38 -> ณัฐภัทร | D37: =ข้อมูลพื้นฐานนักเรียน!D38 -> นาคเหนือ | I37: / | J37: / | K37: / | L37: / | M37: / | P37: / | Q37: / | R37: / | S37: / | W37: / | X37: / | Y37: / | Z37: / | AA37: / | AD37: / | AE37: / | AF37: / | AG37: / | AH37: / | AJ37: =COUNTIF(E37:AI37,"/") -> 19 | AK37: =COUNTIF(E37:AI37,"x") -> 0
A38: =ข้อมูลพื้นฐานนักเรียน!A39 -> 31
A39: =ข้อมูลพื้นฐานนักเรียน!A40 -> 32
A40: =ข้อมูลพื้นฐานนักเรียน!A41 -> 33
A41: =ข้อมูลพื้นฐานนักเรียน!A42 -> 34
A42: =ข้อมูลพื้นฐานนักเรียน!A43 -> 35
A43: =ข้อมูลพื้นฐานนักเรียน!A44 -> 36
A44: =ข้อมูลพื้นฐานนักเรียน!A45 -> 37
A45: =ข้อมูลพื้นฐานนักเรียน!A46 -> 38
A46: =ข้อมูลพื้นฐานนักเรียน!A47 -> 39
A47: =ข้อมูลพื้นฐานนักเรียน!A48 -> 40
A48: =ข้อมูลพื้นฐานนักเรียน!A49 -> 41
A49: =ข้อมูลพื้นฐานนักเรียน!A50 -> 42
... A57: =ข้อมูลพื้นฐานนักเรียน!A58 -> 50
G59: ...................................................................... | Z59: .......................................................
G60: ( ) | Z60: (นางสุชาวดี สุทธิวานิช)
G61: ครูประจำชั้น | Z61: ผู้อำนวยการโรงเรียน

Sheet เดือน ก.พ. 
N1: บันทึกการดื่มนมและแปรงฟัน
K2: ประจำเดือน | P2: กุมภาพันธ์ | T2: พ.ศ. | W2: =AB3+1 -> 2569
F3: ชั้นประถมศึกษาที่ | M3: =ข้อมูลพื้นฐานนักเรียน!$C$3 -> 2/1 | O3: ภาคการเรียนที่ | U3: 2 | W3: ปีการศึกษา | AB3: =ข้อมูลพื้นฐานนักเรียน!$C$5 -> 2568
L4: โรงเรียน | P4: =ข้อมูลพื้นฐานนักเรียน!$C$2 -> จารุศรบำรุง
A6: เลขที่ | B6: ชื่อ-สกุล | E6: วันที่ | AG6: รวม
E7: 1 | F7: 2 | G7: 3 | H7: 4 | I7: 5 | J7: 6 | K7: 7 | L7: 8 | M7: 9 | N7: 10 | O7: 11 | P7: 12 | Q7: 13 | R7: 14 | S7: 15 | T7: 16 | U7: 17 | V7: 18 | W7: 19 | X7: 20 | Y7: 21 | Z7: 22 | AA7: 23 | AB7: 24 | AC7: 25 | AD7: 26 | AE7: 27 | AF7: 28 | AG7: ดื่มและแปรงฟัน | AH7: ไม่ดื่มและไม่แปรงฟัน
A8: =ข้อมูลพื้นฐานนักเรียน!A9 -> 1 | B8: =ข้อมูลพื้นฐานนักเรียน!B9 -> เด็กชาย | C8: =ข้อมูลพื้นฐานนักเรียน!C9 -> ภาคภูมิ | D8: =ข้อมูลพื้นฐานนักเรียน!D9 -> สิงห์สา | F8: / | G8: / | H8: / | I8: x | J8: / | M8: / | N8: / | O8: / | P8: / | Q8: / | T8: / | U8: x | V8: / | W8: / | X8: / | AA8: / | AB8: x | AC8: / | AD8: / | AE8: x | AG8: =COUNTIF(E8:AF8,"/") -> 16 | AH8: =COUNTIF(E8:AF8,"x") -> 4
A9: =ข้อมูลพื้นฐานนักเรียน!A10 -> 2 | B9: =ข้อมูลพื้นฐานนักเรียน!B10 -> เด็กชาย | C9: =ข้อมูลพื้นฐานนักเรียน!C10 -> จิรกร | D9: =ข้อมูลพื้นฐานนักเรียน!D10 -> คำประสงค์ | F9: / | G9: / | H9: / | I9: / | J9: / | M9: / | N9: / | O9: / | P9: / | Q9: / | T9: / | U9: / | V9: / | W9: / | X9: / | AA9: / | AB9: / | AC9: / | AD9: / | AE9: / | AG9: =COUNTIF(E9:AF9,"/") -> 20 | AH9: =COUNTIF(E9:AF9,"x") -> 0
A10: =ข้อมูลพื้นฐานนักเรียน!A11 -> 3 | B10: =ข้อมูลพื้นฐานนักเรียน!B11 -> เด็กชาย | C10: =ข้อมูลพื้นฐานนักเรียน!C11 -> กันฑ์ภวัต | D10: =ข้อมูลพื้นฐานนักเรียน!D11 -> กำจัดภัย | F10: / | G10: / | H10: / | I10: / | J10: / | M10: / | N10: / | O10: / | P10: / | Q10: / | T10: / | U10: / | V10: / | W10: / | X10: / | AA10: / | AB10: / | AC10: / | AD10: / | AE10: / | AG10: =COUNTIF(E10:AF10,"/") -> 20 | AH10: =COUNTIF(E10:AF10,"x") -> 0
A11: =ข้อมูลพื้นฐานนักเรียน!A12 -> 4 | B11: =ข้อมูลพื้นฐานนักเรียน!B12 -> เด็กชาย | C11: =ข้อมูลพื้นฐานนักเรียน!C12 -> สินอนันต์ | D11: =ข้อมูลพื้นฐานนักเรียน!D12 -> ชินคำ | F11: / | G11: / | H11: / | I11: / | J11: / | M11: / | N11: / | O11: / | P11: / | Q11: / | T11: / | U11: / | V11: / | W11: / | X11: / | AA11: / | AB11: / | AC11: / | AD11: / | AE11: / | AG11: =COUNTIF(E11:AF11,"/") -> 20 | AH11: =COUNTIF(E11:AF11,"x") -> 0
A12: =ข้อมูลพื้นฐานนักเรียน!A13 -> 5 | B12: =ข้อมูลพื้นฐานนักเรียน!B13 -> เด็กชาย | C12: =ข้อมูลพื้นฐานนักเรียน!C13 -> ชนัดพล | D12: =ข้อมูลพื้นฐานนักเรียน!D13 -> ปิ่นนาค | F12: / | G12: / | H12: / | I12: / | J12: / | M12: / | N12: / | O12: / | P12: / | Q12: / | T12: / | U12: / | V12: / | W12: / | X12: / | AA12: / | AB12: / | AC12: / | AD12: / | AE12: / | AG12: =COUNTIF(E12:AF12,"/") -> 20 | AH12: =COUNTIF(E12:AF12,"x") -> 0
A13: =ข้อมูลพื้นฐานนักเรียน!A14 -> 6 | B13: =ข้อมูลพื้นฐานนักเรียน!B14 -> เด็กชาย | C13: =ข้อมูลพื้นฐานนักเรียน!C14 -> ชัยภัทร | D13: =ข้อมูลพื้นฐานนักเรียน!D14 -> ม่วงศรี | F13: / | G13: / | H13: / | I13: / | J13: / | M13: / | N13: / | O13: / | P13: / | Q13: / | T13: / | U13: / | V13: / | W13: / | X13: / | AA13: / | AB13: / | AC13: / | AD13: / | AE13: / | AG13: =COUNTIF(E13:AF13,"/") -> 20 | AH13: =COUNTIF(E13:AF13,"x") -> 0
A14: =ข้อมูลพื้นฐานนักเรียน!A15 -> 7 | B14: =ข้อมูลพื้นฐานนักเรียน!B15 -> เด็กชาย | C14: =ข้อมูลพื้นฐานนักเรียน!C15 -> ทศมล | D14: =ข้อมูลพื้นฐานนักเรียน!D15 -> ทิพพาวัน | F14: / | G14: / | H14: / | I14: / | J14: / | M14: / | N14: / | O14: / | P14: / | Q14: / | T14: / | U14: / | V14: / | W14: / | X14: / | AA14: / | AB14: / | AC14: / | AD14: / | AE14: / | AG14: =COUNTIF(E14:AF14,"/") -> 20 | AH14: =COUNTIF(E14:AF14,"x") -> 0
A15: =ข้อมูลพื้นฐานนักเรียน!A16 -> 8 | B15: =ข้อมูลพื้นฐานนักเรียน!B16 -> เด็กชาย | C15: =ข้อมูลพื้นฐานนักเรียน!C16 -> ธนกฤต | D15: =ข้อมูลพื้นฐานนักเรียน!D16 -> รุ่งเรือง | F15: / | G15: / | H15: / | I15: / | J15: / | M15: / | N15: / | O15: / | P15: / | Q15: / | T15: / | U15: / | V15: / | W15: / | X15: / | AA15: / | AB15: / | AC15: / | AD15: / | AE15: / | AG15: =COUNTIF(E15:AF15,"/") -> 20 | AH15: =COUNTIF(E15:AF15,"x") -> 0
A16: =ข้อมูลพื้นฐานนักเรียน!A17 -> 9 | B16: =ข้อมูลพื้นฐานนักเรียน!B17 -> เด็กชาย | C16: =ข้อมูลพื้นฐานนักเรียน!C17 -> เตชินท์ | D16: =ข้อมูลพื้นฐานนักเรียน!D17 -> สมบัติวงค์ | F16: / | G16: / | H16: / | I16: / | J16: / | M16: / | N16: / | O16: / | P16: / | Q16: / | T16: / | U16: / | V16: / | W16: / | X16: / | AA16: / | AB16: / | AC16: / | AD16: / | AE16: / | AG16: =COUNTIF(E16:AF16,"/") -> 20 | AH16: =COUNTIF(E16:AF16,"x") -> 0
A17: =ข้อมูลพื้นฐานนักเรียน!A18 -> 10 | B17: =ข้อมูลพื้นฐานนักเรียน!B18 -> เด็กหญิง | C17: =ข้อมูลพื้นฐานนักเรียน!C18 -> สุจิณณา | D17: =ข้อมูลพื้นฐานนักเรียน!D18 -> ดีพร้อม | F17: / | G17: / | H17: / | I17: / | J17: / | M17: / | N17: / | O17: / | P17: / | Q17: / | T17: / | U17: / | V17: / | W17: / | X17: / | AA17: / | AB17: / | AC17: / | AD17: / | AE17: / | AG17: =COUNTIF(E17:AF17,"/") -> 20 | AH17: =COUNTIF(E17:AF17,"x") -> 0
A18: =ข้อมูลพื้นฐานนักเรียน!A19 -> 11 | B18: =ข้อมูลพื้นฐานนักเรียน!B19 -> เด็กหญิง | C18: =ข้อมูลพื้นฐานนักเรียน!C19 -> ชนัญธิดา | D18: =ข้อมูลพื้นฐานนักเรียน!D19 -> สุวรรณวงค์ | F18: / | G18: / | H18: / | I18: / | J18: / | M18: / | N18: / | O18: / | P18: / | Q18: / | T18: / | U18: / | V18: / | W18: / | X18: / | AA18: / | AB18: / | AC18: / | AD18: / | AE18: / | AG18: =COUNTIF(E18:AF18,"/") -> 20 | AH18: =COUNTIF(E18:AF18,"x") -> 0
A19: =ข้อมูลพื้นฐานนักเรียน!A20 -> 12 | B19: =ข้อมูลพื้นฐานนักเรียน!B20 -> เด็กหญิง | C19: =ข้อมูลพื้นฐานนักเรียน!C20 -> กชพร | D19: =ข้อมูลพื้นฐานนักเรียน!D20 -> สมนาค | F19: / | G19: / | H19: / | I19: / | J19: / | M19: / | N19: / | O19: / | P19: / | Q19: / | T19: / | U19: / | V19: / | W19: / | X19: / | AA19: / | AB19: / | AC19: / | AD19: / | AE19: / | AG19: =COUNTIF(E19:AF19,"/") -> 20 | AH19: =COUNTIF(E19:AF19,"x") -> 0
... A37: =ข้อมูลพื้นฐานนักเรียน!A38 -> 30 | B37: =ข้อมูลพื้นฐานนักเรียน!B38 -> เด็กหญิง | C37: =ข้อมูลพื้นฐานนักเรียน!C38 -> ณัฐภัทร | D37: =ข้อมูลพื้นฐานนักเรียน!D38 -> นาคเหนือ | F37: / | G37: / | H37: / | I37: / | J37: / | M37: / | N37: / | O37: / | P37: / | Q37: / | T37: / | U37: / | V37: / | W37: / | X37: / | AA37: / | AB37: / | AC37: / | AD37: / | AE37: / | AG37: =COUNTIF(E37:AF37,"/") -> 20 | AH37: =COUNTIF(E37:AF37,"x") -> 0
A38: =ข้อมูลพื้นฐานนักเรียน!A39 -> 31
A39: =ข้อมูลพื้นฐานนักเรียน!A40 -> 32
A40: =ข้อมูลพื้นฐานนักเรียน!A41 -> 33
A41: =ข้อมูลพื้นฐานนักเรียน!A42 -> 34
A42: =ข้อมูลพื้นฐานนักเรียน!A43 -> 35
A43: =ข้อมูลพื้นฐานนักเรียน!A44 -> 36
A44: =ข้อมูลพื้นฐานนักเรียน!A45 -> 37
A45: =ข้อมูลพื้นฐานนักเรียน!A46 -> 38
A46: =ข้อมูลพื้นฐานนักเรียน!A47 -> 39
A47: =ข้อมูลพื้นฐานนักเรียน!A48 -> 40
A48: =ข้อมูลพื้นฐานนักเรียน!A49 -> 41
A49: =ข้อมูลพื้นฐานนักเรียน!A50 -> 42
... A57: =ข้อมูลพื้นฐานนักเรียน!A58 -> 50
F59: ...................................................................... | Y59: .......................................................
F60: ( ) | Y60: (นางสุชาวดี สุทธิวานิช)
F61: ครูประจำชั้น | Y61: ผู้อำนวยการโรงเรียน

Sheet เดือน มี.ค.
N1: บันทึกการดื่มนมและแปรงฟัน
K2: ประจำเดือน | P2: มีนาคม | T2: พ.ศ. | W2: =AB3+1 -> 2569
F3: ชั้นประถมศึกษาที่ | M3: =ข้อมูลพื้นฐานนักเรียน!$C$3 -> 2/1 | O3: ภาคการเรียนที่ | U3: 2 | W3: ปีการศึกษา | AB3: =ข้อมูลพื้นฐานนักเรียน!$C$5 -> 2568
L4: โรงเรียน | P4: =ข้อมูลพื้นฐานนักเรียน!$C$2 -> จารุศรบำรุง
A6: เลขที่ | B6: ชื่อ-สกุล | E6: วันที่ | AJ6: รวม
E7: 1 | F7: 2 | G7: 3 | H7: 4 | I7: 5 | J7: 6 | K7: 7 | L7: 8 | M7: 9 | N7: 10 | O7: 11 | P7: 12 | Q7: 13 | R7: 14 | S7: 15 | T7: 16 | U7: 17 | V7: 18 | W7: 19 | X7: 20 | Y7: 21 | Z7: 22 | AA7: 23 | AB7: 24 | AC7: 25 | AD7: 26 | AE7: 27 | AF7: 28 | AG7: 29 | AH7: 30 | AI7: 31 | AJ7: ดื่มและแปรงฟัน | AK7: ไม่ดื่มและไม่แปรงฟัน
A8: =ข้อมูลพื้นฐานนักเรียน!A9 -> 1 | B8: =ข้อมูลพื้นฐานนักเรียน!B9 -> เด็กชาย | C8: =ข้อมูลพื้นฐานนักเรียน!C9 -> ภาคภูมิ | D8: =ข้อมูลพื้นฐานนักเรียน!D9 -> สิงห์สา | F8: / | G8: วันมาฆบูชา | H8: / | I8: / | J8: / | M8: / | N8: / | O8: / | P8: / | Q8: / | T8: / | U8: / | V8: / | W8: / | X8: / | AA8: / | AB8: / | AC8: / | AD8: / | AE8: / | AH8: / | AI8: / | AJ8: =COUNTIF(E8:AI8,"/") -> 21 | AK8: =COUNTIF(E8:AI8,"x") -> 0
A9: =ข้อมูลพื้นฐานนักเรียน!A10 -> 2 | B9: =ข้อมูลพื้นฐานนักเรียน!B10 -> เด็กชาย | C9: =ข้อมูลพื้นฐานนักเรียน!C10 -> จิรกร | D9: =ข้อมูลพื้นฐานนักเรียน!D10 -> คำประสงค์ | F9: / | H9: / | I9: / | J9: / | M9: / | N9: / | O9: / | P9: / | Q9: / | T9: / | U9: / | V9: / | W9: / | X9: / | AA9: / | AB9: / | AC9: / | AD9: / | AE9: / | AH9: / | AI9: / | AJ9: =COUNTIF(E9:AI9,"/") -> 21 | AK9: =COUNTIF(E9:AI9,"x") -> 0
A10: =ข้อมูลพื้นฐานนักเรียน!A11 -> 3 | B10: =ข้อมูลพื้นฐานนักเรียน!B11 -> เด็กชาย | C10: =ข้อมูลพื้นฐานนักเรียน!C11 -> กันฑ์ภวัต | D10: =ข้อมูลพื้นฐานนักเรียน!D11 -> กำจัดภัย | F10: / | H10: / | I10: / | J10: / | M10: / | N10: / | O10: / | P10: / | Q10: / | T10: / | U10: / | V10: / | W10: / | X10: / | AA10: / | AB10: / | AC10: / | AD10: / | AE10: / | AH10: / | AI10: / | AJ10: =COUNTIF(E10:AI10,"/") -> 21 | AK10: =COUNTIF(E10:AI10,"x") -> 0
A11: =ข้อมูลพื้นฐานนักเรียน!A12 -> 4 | B11: =ข้อมูลพื้นฐานนักเรียน!B12 -> เด็กชาย | C11: =ข้อมูลพื้นฐานนักเรียน!C12 -> สินอนันต์ | D11: =ข้อมูลพื้นฐานนักเรียน!D12 -> ชินคำ | F11: / | H11: / | I11: / | J11: / | M11: / | N11: / | O11: / | P11: / | Q11: / | T11: / | U11: / | V11: / | W11: / | X11: / | AA11: / | AB11: / | AC11: / | AD11: / | AE11: / | AH11: / | AI11: / | AJ11: =COUNTIF(E11:AI11,"/") -> 21 | AK11: =COUNTIF(E11:AI11,"x") -> 0
A12: =ข้อมูลพื้นฐานนักเรียน!A13 -> 5 | B12: =ข้อมูลพื้นฐานนักเรียน!B13 -> เด็กชาย | C12: =ข้อมูลพื้นฐานนักเรียน!C13 -> ชนัดพล | D12: =ข้อมูลพื้นฐานนักเรียน!D13 -> ปิ่นนาค | F12: / | H12: / | I12: / | J12: / | M12: / | N12: / | O12: / | P12: / | Q12: / | T12: / | U12: / | V12: / | W12: / | X12: / | AA12: / | AB12: / | AC12: / | AD12: / | AE12: / | AH12: / | AI12: / | AJ12: =COUNTIF(E12:AI12,"/") -> 21 | AK12: =COUNTIF(E12:AI12,"x") -> 0
A13: =ข้อมูลพื้นฐานนักเรียน!A14 -> 6 | B13: =ข้อมูลพื้นฐานนักเรียน!B14 -> เด็กชาย | C13: =ข้อมูลพื้นฐานนักเรียน!C14 -> ชัยภัทร | D13: =ข้อมูลพื้นฐานนักเรียน!D14 -> ม่วงศรี | F13: / | H13: / | I13: / | J13: / | M13: / | N13: / | O13: / | P13: / | Q13: / | T13: / | U13: / | V13: / | W13: / | X13: / | AA13: / | AB13: / | AC13: / | AD13: / | AE13: / | AH13: / | AI13: / | AJ13: =COUNTIF(E13:AI13,"/") -> 21 | AK13: =COUNTIF(E13:AI13,"x") -> 0
A14: =ข้อมูลพื้นฐานนักเรียน!A15 -> 7 | B14: =ข้อมูลพื้นฐานนักเรียน!B15 -> เด็กชาย | C14: =ข้อมูลพื้นฐานนักเรียน!C15 -> ทศมล | D14: =ข้อมูลพื้นฐานนักเรียน!D15 -> ทิพพาวัน | F14: / | H14: / | I14: / | J14: / | M14: / | N14: / | O14: / | P14: / | Q14: / | T14: / | U14: / | V14: / | W14: / | X14: / | AA14: / | AB14: / | AC14: / | AD14: / | AE14: / | AH14: / | AI14: / | AJ14: =COUNTIF(E14:AI14,"/") -> 21 | AK14: =COUNTIF(E14:AI14,"x") -> 0
A15: =ข้อมูลพื้นฐานนักเรียน!A16 -> 8 | B15: =ข้อมูลพื้นฐานนักเรียน!B16 -> เด็กชาย | C15: =ข้อมูลพื้นฐานนักเรียน!C16 -> ธนกฤต | D15: =ข้อมูลพื้นฐานนักเรียน!D16 -> รุ่งเรือง | F15: / | H15: / | I15: / | J15: / | M15: / | N15: / | O15: / | P15: / | Q15: / | T15: / | U15: / | V15: / | W15: / | X15: / | AA15: / | AB15: / | AC15: / | AD15: / | AE15: / | AH15: / | AI15: / | AJ15: =COUNTIF(E15:AI15,"/") -> 21 | AK15: =COUNTIF(E15:AI15,"x") -> 0
A16: =ข้อมูลพื้นฐานนักเรียน!A17 -> 9 | B16: =ข้อมูลพื้นฐานนักเรียน!B17 -> เด็กชาย | C16: =ข้อมูลพื้นฐานนักเรียน!C17 -> เตชินท์ | D16: =ข้อมูลพื้นฐานนักเรียน!D17 -> สมบัติวงค์ | F16: / | H16: / | I16: / | J16: / | M16: / | N16: / | O16: / | P16: / | Q16: / | T16: / | U16: / | V16: / | W16: / | X16: / | AA16: / | AB16: / | AC16: / | AD16: / | AE16: / | AH16: / | AI16: / | AJ16: =COUNTIF(E16:AI16,"/") -> 21 | AK16: =COUNTIF(E16:AI16,"x") -> 0
A17: =ข้อมูลพื้นฐานนักเรียน!A18 -> 10 | B17: =ข้อมูลพื้นฐานนักเรียน!B18 -> เด็กหญิง | C17: =ข้อมูลพื้นฐานนักเรียน!C18 -> สุจิณณา | D17: =ข้อมูลพื้นฐานนักเรียน!D18 -> ดีพร้อม | F17: / | H17: / | I17: / | J17: / | M17: / | N17: / | O17: / | P17: / | Q17: / | T17: / | U17: / | V17: / | W17: / | X17: / | AA17: / | AB17: / | AC17: / | AD17: / | AE17: / | AH17: / | AI17: / | AJ17: =COUNTIF(E17:AI17,"/") -> 21 | AK17: =COUNTIF(E17:AI17,"x") -> 0
A18: =ข้อมูลพื้นฐานนักเรียน!A19 -> 11 | B18: =ข้อมูลพื้นฐานนักเรียน!B19 -> เด็กหญิง | C18: =ข้อมูลพื้นฐานนักเรียน!C19 -> ชนัญธิดา | D18: =ข้อมูลพื้นฐานนักเรียน!D19 -> สุวรรณวงค์ | F18: / | H18: / | I18: / | J18: / | M18: / | N18: / | O18: / | P18: / | Q18: / | T18: / | U18: / | V18: / | W18: / | X18: / | AA18: / | AB18: / | AC18: / | AD18: / | AE18: / | AH18: / | AI18: / | AJ18: =COUNTIF(E18:AI18,"/") -> 21 | AK18: =COUNTIF(E18:AI18,"x") -> 0
A19: =ข้อมูลพื้นฐานนักเรียน!A20 -> 12 | B19: =ข้อมูลพื้นฐานนักเรียน!B20 -> เด็กหญิง | C19: =ข้อมูลพื้นฐานนักเรียน!C20 -> กชพร | D19: =ข้อมูลพื้นฐานนักเรียน!D20 -> สมนาค | F19: / | H19: / | I19: / | J19: / | M19: / | N19: / | O19: / | P19: / | Q19: / | T19: / | U19: / | V19: / | W19: / | X19: / | AA19: / | AB19: / | AC19: / | AD19: / | AE19: / | AH19: / | AI19: / | AJ19: =COUNTIF(E19:AI19,"/") -> 21 | AK19: =COUNTIF(E19:AI19,"x") -> 0
A20: =ข้อมูลพื้นฐานนักเรียน!A21 -> 13 | B20: =ข้อมูลพื้นฐานนักเรียน!B21 -> เด็กหญิง | C20: =ข้อมูลพื้นฐานนักเรียน!C21 -> จิรัญญา | D20: =ข้อมูลพื้นฐานนักเรียน!D21 -> เกลี้ยงพร้อม | F20: / | H20: / | I20: / | J20: / | M20: / | N20: / | O20: / | P20: / | Q20: / | T20: / | U20: / | V20: / | W20: / | X20: / | AA20: / | AB20: / | AC20: / | AD20: / | AE20: / | AH20: / | AI20: / | AJ20: =COUNTIF(E20:AI20,"/") -> 21 | AK20: =COUNTIF(E20:AI20,"x") -> 0
... A37: =ข้อมูลพื้นฐานนักเรียน!A38 -> 30 | B37: =ข้อมูลพื้นฐานนักเรียน!B38 -> เด็กหญิง | C37: =ข้อมูลพื้นฐานนักเรียน!C38 -> ณัฐภัทร | D37: =ข้อมูลพื้นฐานนักเรียน!D38 -> นาคเหนือ | F37: / | H37: / | I37: / | J37: / | M37: / | N37: / | O37: / | P37: / | Q37: / | T37: / | U37: / | V37: / | W37: / | X37: / | AA37: / | AB37: / | AC37: / | AD37: / | AE37: / | AH37: / | AI37: / | AJ37: =COUNTIF(E37:AI37,"/") -> 21 | AK37: =COUNTIF(E37:AI37,"x") -> 0
A38: =ข้อมูลพื้นฐานนักเรียน!A39 -> 31
A39: =ข้อมูลพื้นฐานนักเรียน!A40 -> 32
A40: =ข้อมูลพื้นฐานนักเรียน!A41 -> 33
A41: =ข้อมูลพื้นฐานนักเรียน!A42 -> 34
A42: =ข้อมูลพื้นฐานนักเรียน!A43 -> 35
A43: =ข้อมูลพื้นฐานนักเรียน!A44 -> 36
A44: =ข้อมูลพื้นฐานนักเรียน!A45 -> 37
A45: =ข้อมูลพื้นฐานนักเรียน!A46 -> 38
A46: =ข้อมูลพื้นฐานนักเรียน!A47 -> 39
A47: =ข้อมูลพื้นฐานนักเรียน!A48 -> 40
A48: =ข้อมูลพื้นฐานนักเรียน!A49 -> 41
A49: =ข้อมูลพื้นฐานนักเรียน!A50 -> 42
... A57: =ข้อมูลพื้นฐานนักเรียน!A58 -> 50
G59: ...................................................................... | Z59: .......................................................
G60: ( ) | Z60: (นางสุชาวดี สุทธิวานิช)
G61: ครูประจำชั้น | Z61: ผู้อำนวยการโรงเรียน

Sheet สรุปเทอม 2
C1: สรุปการดื่มนมและแปรงฟันของนักเรียน ภาคการเรียนที่ 2
D3: ชั้นประถมศึกษาที่ | E3: =ข้อมูลพื้นฐานนักเรียน!$C$3 -> 2/1 | F3: ปีการศึกษา | G3: =ข้อมูลพื้นฐานนักเรียน!$C$5 -> 2568
D4: โรงเรียน | E4: =ข้อมูลพื้นฐานนักเรียน!$C$2 -> จารุศรบำรุง
A6: เลขที่ | B6: ชื่อ-สกุล | E6: จำนวนครั้งที่ ดื่มนมและแปรงฟัน | F6: จำนวนครั้งที่ไม่ดื่มนมและไม่แปรงฟัน | G6: ร้อยละการดื่มนมและแปรงฟัน | I6: หมายเหตุ
G7: ทั้งหมด | H7: ร้อยละ
A8: =ข้อมูลพื้นฐานนักเรียน!A9 -> 1 | B8: =ข้อมูลพื้นฐานนักเรียน!B9 -> เด็กชาย | C8: =ข้อมูลพื้นฐานนักเรียน!C9 -> ภาคภูมิ | D8: =ข้อมูลพื้นฐานนักเรียน!D9 -> สิงห์สา | E8: ='เดือน พ.ย.'!AI8+'เดือน ธ.ค.'!AJ8+'เดือน ม.ค.'!AJ8+'เดือน ก.พ. '!AG8+'เดือน มี.ค.'!AJ8 -> 77 | F8: ='เดือน พ.ย.'!AJ8+'เดือน ธ.ค.'!AK8+'เดือน ม.ค.'!AK8+'เดือน ก.พ. '!AH8+'เดือน มี.ค.'!AK8 -> 23 | G8: =E8+F8 -> 100 | H8: =(E8/G8)*100 -> 77 | I8: =IF(H8>=$D$59,"ผ่าน","ไม่ผ่าน") -> ไม่ผ่าน
A9: =ข้อมูลพื้นฐานนักเรียน!A10 -> 2 | B9: =ข้อมูลพื้นฐานนักเรียน!B10 -> เด็กชาย | C9: =ข้อมูลพื้นฐานนักเรียน!C10 -> จิรกร | D9: =ข้อมูลพื้นฐานนักเรียน!D10 -> คำประสงค์ | E9: ='เดือน พ.ย.'!AI9+'เดือน ธ.ค.'!AJ9+'เดือน ม.ค.'!AJ9+'เดือน ก.พ. '!AG9+'เดือน มี.ค.'!AJ9 -> 100 | F9: ='เดือน พ.ย.'!AJ9+'เดือน ธ.ค.'!AK9+'เดือน ม.ค.'!AK9+'เดือน ก.พ. '!AH9+'เดือน มี.ค.'!AK9 -> 0 | G9: =E9+F9 -> 100 | H9: =(E9/G9)*100 -> 100 | I9: =IF(H9>=$D$59,"ผ่าน","ไม่ผ่าน") -> ผ่าน
A10: =ข้อมูลพื้นฐานนักเรียน!A11 -> 3 | B10: =ข้อมูลพื้นฐานนักเรียน!B11 -> เด็กชาย | C10: =ข้อมูลพื้นฐานนักเรียน!C11 -> กันฑ์ภวัต | D10: =ข้อมูลพื้นฐานนักเรียน!D11 -> กำจัดภัย | E10: ='เดือน พ.ย.'!AI10+'เดือน ธ.ค.'!AJ10+'เดือน ม.ค.'!AJ10+'เดือน ก.พ. '!AG10+'เดือน มี.ค.'!AJ10 -> 100 | F10: ='เดือน พ.ย.'!AJ10+'เดือน ธ.ค.'!AK10+'เดือน ม.ค.'!AK10+'เดือน ก.พ. '!AH10+'เดือน มี.ค.'!AK10 -> 0 | G10: =E10+F10 -> 100 | H10: =(E10/G10)*100 -> 100 | I10: =IF(H10>=$D$59,"ผ่าน","ไม่ผ่าน") -> ผ่าน
A11: =ข้อมูลพื้นฐานนักเรียน!A12 -> 4 | B11: =ข้อมูลพื้นฐานนักเรียน!B12 -> เด็กชาย | C11: =ข้อมูลพื้นฐานนักเรียน!C12 -> สินอนันต์ | D11: =ข้อมูลพื้นฐานนักเรียน!D12 -> ชินคำ | E11: ='เดือน พ.ย.'!AI11+'เดือน ธ.ค.'!AJ11+'เดือน ม.ค.'!AJ11+'เดือน ก.พ. '!AG11+'เดือน มี.ค.'!AJ11 -> 100 | F11: ='เดือน พ.ย.'!AJ11+'เดือน ธ.ค.'!AK11+'เดือน ม.ค.'!AK11+'เดือน ก.พ. '!AH11+'เดือน มี.ค.'!AK11 -> 0 | G11: =E11+F11 -> 100 | H11: =(E11/G11)*100 -> 100 | I11: =IF(H11>=$D$59,"ผ่าน","ไม่ผ่าน") -> ผ่าน
A12: =ข้อมูลพื้นฐานนักเรียน!A13 -> 5 | B12: =ข้อมูลพื้นฐานนักเรียน!B13 -> เด็กชาย | C12: =ข้อมูลพื้นฐานนักเรียน!C13 -> ชนัดพล | D12: =ข้อมูลพื้นฐานนักเรียน!D13 -> ปิ่นนาค | E12: ='เดือน พ.ย.'!AI12+'เดือน ธ.ค.'!AJ12+'เดือน ม.ค.'!AJ12+'เดือน ก.พ. '!AG12+'เดือน มี.ค.'!AJ12 -> 100 | F12: ='เดือน พ.ย.'!AJ12+'เดือน ธ.ค.'!AK12+'เดือน ม.ค.'!AK12+'เดือน ก.พ. '!AH12+'เดือน มี.ค.'!AK12 -> 0 | G12: =E12+F12 -> 100 | H12: =(E12/G12)*100 -> 100 | I12: =IF(H12>=$D$59,"ผ่าน","ไม่ผ่าน") -> ผ่าน
A13: =ข้อมูลพื้นฐานนักเรียน!A14 -> 6 | B13: =ข้อมูลพื้นฐานนักเรียน!B14 -> เด็กชาย | C13: =ข้อมูลพื้นฐานนักเรียน!C14 -> ชัยภัทร | D13: =ข้อมูลพื้นฐานนักเรียน!D14 -> ม่วงศรี | E13: ='เดือน พ.ย.'!AI13+'เดือน ธ.ค.'!AJ13+'เดือน ม.ค.'!AJ13+'เดือน ก.พ. '!AG13+'เดือน มี.ค.'!AJ13 -> 100 | F13: ='เดือน พ.ย.'!AJ13+'เดือน ธ.ค.'!AK13+'เดือน ม.ค.'!AK13+'เดือน ก.พ. '!AH13+'เดือน มี.ค.'!AK13 -> 0 | G13: =E13+F13 -> 100 | H13: =(E13/G13)*100 -> 100 | I13: =IF(H13>=$D$59,"ผ่าน","ไม่ผ่าน") -> ผ่าน
A14: =ข้อมูลพื้นฐานนักเรียน!A15 -> 7 | B14: =ข้อมูลพื้นฐานนักเรียน!B15 -> เด็กชาย | C14: =ข้อมูลพื้นฐานนักเรียน!C15 -> ทศมล | D14: =ข้อมูลพื้นฐานนักเรียน!D15 -> ทิพพาวัน | E14: ='เดือน พ.ย.'!AI14+'เดือน ธ.ค.'!AJ14+'เดือน ม.ค.'!AJ14+'เดือน ก.พ. '!AG14+'เดือน มี.ค.'!AJ14 -> 100 | F14: ='เดือน พ.ย.'!AJ14+'เดือน ธ.ค.'!AK14+'เดือน ม.ค.'!AK14+'เดือน ก.พ. '!AH14+'เดือน มี.ค.'!AK14 -> 0 | G14: =E14+F14 -> 100 | H14: =(E14/G14)*100 -> 100 | I14: =IF(H14>=$D$59,"ผ่าน","ไม่ผ่าน") -> ผ่าน
A15: =ข้อมูลพื้นฐานนักเรียน!A16 -> 8 | B15: =ข้อมูลพื้นฐานนักเรียน!B16 -> เด็กชาย | C15: =ข้อมูลพื้นฐานนักเรียน!C16 -> ธนกฤต | D15: =ข้อมูลพื้นฐานนักเรียน!D16 -> รุ่งเรือง | E15: ='เดือน พ.ย.'!AI15+'เดือน ธ.ค.'!AJ15+'เดือน ม.ค.'!AJ15+'เดือน ก.พ. '!AG15+'เดือน มี.ค.'!AJ15 -> 100 | F15: ='เดือน พ.ย.'!AJ15+'เดือน ธ.ค.'!AK15+'เดือน ม.ค.'!AK15+'เดือน ก.พ. '!AH15+'เดือน มี.ค.'!AK15 -> 0 | G15: =E15+F15 -> 100 | H15: =(E15/G15)*100 -> 100 | I15: =IF(H15>=$D$59,"ผ่าน","ไม่ผ่าน") -> ผ่าน
A16: =ข้อมูลพื้นฐานนักเรียน!A17 -> 9 | B16: =ข้อมูลพื้นฐานนักเรียน!B17 -> เด็กชาย | C16: =ข้อมูลพื้นฐานนักเรียน!C17 -> เตชินท์ | D16: =ข้อมูลพื้นฐานนักเรียน!D17 -> สมบัติวงค์ | E16: ='เดือน พ.ย.'!AI16+'เดือน ธ.ค.'!AJ16+'เดือน ม.ค.'!AJ16+'เดือน ก.พ. '!AG16+'เดือน มี.ค.'!AJ16 -> 100 | F16: ='เดือน พ.ย.'!AJ16+'เดือน ธ.ค.'!AK16+'เดือน ม.ค.'!AK16+'เดือน ก.พ. '!AH16+'เดือน มี.ค.'!AK16 -> 0 | G16: =E16+F16 -> 100 | H16: =(E16/G16)*100 -> 100 | I16: =IF(H16>=$D$59,"ผ่าน","ไม่ผ่าน") -> ผ่าน
A17: =ข้อมูลพื้นฐานนักเรียน!A18 -> 10 | B17: =ข้อมูลพื้นฐานนักเรียน!B18 -> เด็กหญิง | C17: =ข้อมูลพื้นฐานนักเรียน!C18 -> สุจิณณา | D17: =ข้อมูลพื้นฐานนักเรียน!D18 -> ดีพร้อม | E17: ='เดือน พ.ย.'!AI17+'เดือน ธ.ค.'!AJ17+'เดือน ม.ค.'!AJ17+'เดือน ก.พ. '!AG17+'เดือน มี.ค.'!AJ17 -> 100 | F17: ='เดือน พ.ย.'!AJ17+'เดือน ธ.ค.'!AK17+'เดือน ม.ค.'!AK17+'เดือน ก.พ. '!AH17+'เดือน มี.ค.'!AK17 -> 0 | G17: =E17+F17 -> 100 | H17: =(E17/G17)*100 -> 100 | I17: =IF(H17>=$D$59,"ผ่าน","ไม่ผ่าน") -> ผ่าน
A18: =ข้อมูลพื้นฐานนักเรียน!A19 -> 11 | B18: =ข้อมูลพื้นฐานนักเรียน!B19 -> เด็กหญิง | C18: =ข้อมูลพื้นฐานนักเรียน!C19 -> ชนัญธิดา | D18: =ข้อมูลพื้นฐานนักเรียน!D19 -> สุวรรณวงค์ | E18: ='เดือน พ.ย.'!AI18+'เดือน ธ.ค.'!AJ18+'เดือน ม.ค.'!AJ18+'เดือน ก.พ. '!AG18+'เดือน มี.ค.'!AJ18 -> 100 | F18: ='เดือน พ.ย.'!AJ18+'เดือน ธ.ค.'!AK18+'เดือน ม.ค.'!AK18+'เดือน ก.พ. '!AH18+'เดือน มี.ค.'!AK18 -> 0 | G18: =E18+F18 -> 100 | H18: =(E18/G18)*100 -> 100 | I18: =IF(H18>=$D$59,"ผ่าน","ไม่ผ่าน") -> ผ่าน
A19: =ข้อมูลพื้นฐานนักเรียน!A20 -> 12 | B19: =ข้อมูลพื้นฐานนักเรียน!B20 -> เด็กหญิง | C19: =ข้อมูลพื้นฐานนักเรียน!C20 -> กชพร | D19: =ข้อมูลพื้นฐานนักเรียน!D20 -> สมนาค | E19: ='เดือน พ.ย.'!AI19+'เดือน ธ.ค.'!AJ19+'เดือน ม.ค.'!AJ19+'เดือน ก.พ. '!AG19+'เดือน มี.ค.'!AJ19 -> 100 | F19: ='เดือน พ.ย.'!AJ19+'เดือน ธ.ค.'!AK19+'เดือน ม.ค.'!AK19+'เดือน ก.พ. '!AH19+'เดือน มี.ค.'!AK19 -> 0 | G19: =E19+F19 -> 100 | H19: =(E19/G19)*100 -> 100 | I19: =IF(H19>=$D$59,"ผ่าน","ไม่ผ่าน") -> ผ่าน
... A57: =ข้อมูลพื้นฐานนักเรียน!A58 -> 50 | B57: =ข้อมูลพื้นฐานนักเรียน!B58 -> 0 | C57: =ข้อมูลพื้นฐานนักเรียน!C58 -> 0 | D57: =ข้อมูลพื้นฐานนักเรียน!D58 -> 0 | E57: ='เดือน พ.ย.'!AI57+'เดือน ธ.ค.'!AJ57+'เดือน ม.ค.'!AJ57+'เดือน ก.พ. '!AG57+'เดือน มี.ค.'!AJ57 -> 0 | F57: ='เดือน พ.ย.'!AJ57+'เดือน ธ.ค.'!AK57+'เดือน ม.ค.'!AK57+'เดือน ก.พ. '!AH57+'เดือน มี.ค.'!AK57 -> 0 | G57: =E57+F57 -> 0 | H57: =(E57/G57)*100 -> #DIV/0! | I57: =IF(H57>=$D$59,"ผ่าน","ไม่ผ่าน") -> #DIV/0!
A59: หมายเหตุ | B59: ร้อยละการแปลงฟันที่ใช้ ในไฟล์นี้ = | D59: 80 | E59: (สามารถปรับได้)

Sheet สรุปรายปี
B1: และแปรงฟันสรุปการดื่มนมและแปรงฟันของนักเรียน ปีการศึกษา 2568
B3: ชั้นประถมศึกษาที่ | D3: =ข้อมูลพื้นฐานนักเรียน!$C$3 -> 2/1 | F3: โรงเรียน | G3: =ข้อมูลพื้นฐานนักเรียน!$C$2 -> จารุศรบำรุง
A6: เลขที่ | B6: ชื่อ-สกุล | E6: จำนวนครั้งที่ ดื่มนมและแปรงฟัน | F6: จำนวนครั้งที่ไม่ดื่มนมและไม่แปรงฟัน | G6: ร้อยละการดื่มนมและแปรงฟัน | I6: หมายเหตุ
G7: ทั้งหมด | H7: ร้อยละ
A8: =ข้อมูลพื้นฐานนักเรียน!A9 -> 1 | B8: =ข้อมูลพื้นฐานนักเรียน!B9 -> เด็กชาย | C8: =ข้อมูลพื้นฐานนักเรียน!C9 -> ภาคภูมิ | D8: =ข้อมูลพื้นฐานนักเรียน!D9 -> สิงห์สา | E8: ='สรุปเทอม 1'!E8+'สรุปเทอม 2'!E8 -> 156 | F8: ='สรุปเทอม 1'!F8+'สรุปเทอม 2'!F8 -> 44 | G8: =E8+F8 -> 200 | H8: =(E8/G8)*100 -> 78 | I8: =IF(H8>=$D$59,"ผ่าน","ไม่ผ่าน") -> ไม่ผ่าน
A9: =ข้อมูลพื้นฐานนักเรียน!A10 -> 2 | B9: =ข้อมูลพื้นฐานนักเรียน!B10 -> เด็กชาย | C9: =ข้อมูลพื้นฐานนักเรียน!C10 -> จิรกร | D9: =ข้อมูลพื้นฐานนักเรียน!D10 -> คำประสงค์ | E9: ='สรุปเทอม 1'!E9+'สรุปเทอม 2'!E9 -> 200 | F9: ='สรุปเทอม 1'!F9+'สรุปเทอม 2'!F9 -> 0 | G9: =E9+F9 -> 200 | H9: =(E9/G9)*100 -> 100 | I9: =IF(H9>=$D$59,"ผ่าน","ไม่ผ่าน") -> ผ่าน
A10: =ข้อมูลพื้นฐานนักเรียน!A11 -> 3 | B10: =ข้อมูลพื้นฐานนักเรียน!B11 -> เด็กชาย | C10: =ข้อมูลพื้นฐานนักเรียน!C11 -> กันฑ์ภวัต | D10: =ข้อมูลพื้นฐานนักเรียน!D11 -> กำจัดภัย | E10: ='สรุปเทอม 1'!E10+'สรุปเทอม 2'!E10 -> 200 | F10: ='สรุปเทอม 1'!F10+'สรุปเทอม 2'!F10 -> 0 | G10: =E10+F10 -> 200 | H10: =(E10/G10)*100 -> 100 | I10: =IF(H10>=$D$59,"ผ่าน","ไม่ผ่าน") -> ผ่าน
A11: =ข้อมูลพื้นฐานนักเรียน!A12 -> 4 | B11: =ข้อมูลพื้นฐานนักเรียน!B12 -> เด็กชาย | C11: =ข้อมูลพื้นฐานนักเรียน!C12 -> สินอนันต์ | D11: =ข้อมูลพื้นฐานนักเรียน!D12 -> ชินคำ | E11: ='สรุปเทอม 1'!E11+'สรุปเทอม 2'!E11 -> 200 | F11: ='สรุปเทอม 1'!F11+'สรุปเทอม 2'!F11 -> 0 | G11: =E11+F11 -> 200 | H11: =(E11/G11)*100 -> 100 | I11: =IF(H11>=$D$59,"ผ่าน","ไม่ผ่าน") -> ผ่าน
A12: =ข้อมูลพื้นฐานนักเรียน!A13 -> 5 | B12: =ข้อมูลพื้นฐานนักเรียน!B13 -> เด็กชาย | C12: =ข้อมูลพื้นฐานนักเรียน!C13 -> ชนัดพล | D12: =ข้อมูลพื้นฐานนักเรียน!D13 -> ปิ่นนาค | E12: ='สรุปเทอม 1'!E12+'สรุปเทอม 2'!E12 -> 200 | F12: ='สรุปเทอม 1'!F12+'สรุปเทอม 2'!F12 -> 0 | G12: =E12+F12 -> 200 | H12: =(E12/G12)*100 -> 100 | I12: =IF(H12>=$D$59,"ผ่าน","ไม่ผ่าน") -> ผ่าน
A13: =ข้อมูลพื้นฐานนักเรียน!A14 -> 6 | B13: =ข้อมูลพื้นฐานนักเรียน!B14 -> เด็กชาย | C13: =ข้อมูลพื้นฐานนักเรียน!C14 -> ชัยภัทร | D13: =ข้อมูลพื้นฐานนักเรียน!D14 -> ม่วงศรี | E13: ='สรุปเทอม 1'!E13+'สรุปเทอม 2'!E13 -> 200 | F13: ='สรุปเทอม 1'!F13+'สรุปเทอม 2'!F13 -> 0 | G13: =E13+F13 -> 200 | H13: =(E13/G13)*100 -> 100 | I13: =IF(H13>=$D$59,"ผ่าน","ไม่ผ่าน") -> ผ่าน
A14: =ข้อมูลพื้นฐานนักเรียน!A15 -> 7 | B14: =ข้อมูลพื้นฐานนักเรียน!B15 -> เด็กชาย | C14: =ข้อมูลพื้นฐานนักเรียน!C15 -> ทศมล | D14: =ข้อมูลพื้นฐานนักเรียน!D15 -> ทิพพาวัน | E14: ='สรุปเทอม 1'!E14+'สรุปเทอม 2'!E14 -> 200 | F14: ='สรุปเทอม 1'!F14+'สรุปเทอม 2'!F14 -> 0 | G14: =E14+F14 -> 200 | H14: =(E14/G14)*100 -> 100 | I14: =IF(H14>=$D$59,"ผ่าน","ไม่ผ่าน") -> ผ่าน
A15: =ข้อมูลพื้นฐานนักเรียน!A16 -> 8 | B15: =ข้อมูลพื้นฐานนักเรียน!B16 -> เด็กชาย | C15: =ข้อมูลพื้นฐานนักเรียน!C16 -> ธนกฤต | D15: =ข้อมูลพื้นฐานนักเรียน!D16 -> รุ่งเรือง | E15: ='สรุปเทอม 1'!E15+'สรุปเทอม 2'!E15 -> 200 | F15: ='สรุปเทอม 1'!F15+'สรุปเทอม 2'!F15 -> 0 | G15: =E15+F15 -> 200 | H15: =(E15/G15)*100 -> 100 | I15: =IF(H15>=$D$59,"ผ่าน","ไม่ผ่าน") -> ผ่าน
A16: =ข้อมูลพื้นฐานนักเรียน!A17 -> 9 | B16: =ข้อมูลพื้นฐานนักเรียน!B17 -> เด็กชาย | C16: =ข้อมูลพื้นฐานนักเรียน!C17 -> เตชินท์ | D16: =ข้อมูลพื้นฐานนักเรียน!D17 -> สมบัติวงค์ | E16: ='สรุปเทอม 1'!E16+'สรุปเทอม 2'!E16 -> 200 | F16: ='สรุปเทอม 1'!F16+'สรุปเทอม 2'!F16 -> 0 | G16: =E16+F16 -> 200 | H16: =(E16/G16)*100 -> 100 | I16: =IF(H16>=$D$59,"ผ่าน","ไม่ผ่าน") -> ผ่าน
A17: =ข้อมูลพื้นฐานนักเรียน!A18 -> 10 | B17: =ข้อมูลพื้นฐานนักเรียน!B18 -> เด็กหญิง | C17: =ข้อมูลพื้นฐานนักเรียน!C18 -> สุจิณณา | D17: =ข้อมูลพื้นฐานนักเรียน!D18 -> ดีพร้อม | E17: ='สรุปเทอม 1'!E17+'สรุปเทอม 2'!E17 -> 200 | F17: ='สรุปเทอม 1'!F17+'สรุปเทอม 2'!F17 -> 0 | G17: =E17+F17 -> 200 | H17: =(E17/G17)*100 -> 100 | I17: =IF(H17>=$D$59,"ผ่าน","ไม่ผ่าน") -> ผ่าน
A18: =ข้อมูลพื้นฐานนักเรียน!A19 -> 11 | B18: =ข้อมูลพื้นฐานนักเรียน!B19 -> เด็กหญิง | C18: =ข้อมูลพื้นฐานนักเรียน!C19 -> ชนัญธิดา | D18: =ข้อมูลพื้นฐานนักเรียน!D19 -> สุวรรณวงค์ | E18: ='สรุปเทอม 1'!E18+'สรุปเทอม 2'!E18 -> 200 | F18: ='สรุปเทอม 1'!F18+'สรุปเทอม 2'!F18 -> 0 | G18: =E18+F18 -> 200 | H18: =(E18/G18)*100 -> 100 | I18: =IF(H18>=$D$59,"ผ่าน","ไม่ผ่าน") -> ผ่าน
A19: =ข้อมูลพื้นฐานนักเรียน!A20 -> 12 | B19: =ข้อมูลพื้นฐานนักเรียน!B20 -> เด็กหญิง | C19: =ข้อมูลพื้นฐานนักเรียน!C20 -> กชพร | D19: =ข้อมูลพื้นฐานนักเรียน!D20 -> สมนาค | E19: ='สรุปเทอม 1'!E19+'สรุปเทอม 2'!E19 -> 200 | F19: ='สรุปเทอม 1'!F19+'สรุปเทอม 2'!F19 -> 0 | G19: =E19+F19 -> 200 | H19: =(E19/G19)*100 -> 100 | I19: =IF(H19>=$D$59,"ผ่าน","ไม่ผ่าน") -> ผ่าน
... A37: =ข้อมูลพื้นฐานนักเรียน!A38 -> 30 | B37: =ข้อมูลพื้นฐานนักเรียน!B38 -> เด็กหญิง | C37: =ข้อมูลพื้นฐานนักเรียน!C38 -> ณัฐภัทร | D37: =ข้อมูลพื้นฐานนักเรียน!D38 -> นาคเหนือ | E37: ='สรุปเทอม 1'!E37+'สรุปเทอม 2'!E37 -> 200 | F37: ='สรุปเทอม 1'!F37+'สรุปเทอม 2'!F37 -> 0 | G37: =E37+F37 -> 200 | H37: =(E37/G37)*100 -> 100 | I37: =IF(H37>=$D$59,"ผ่าน","ไม่ผ่าน") -> ผ่าน
A38: =ข้อมูลพื้นฐานนักเรียน!A39 -> 31
A39: =ข้อมูลพื้นฐานนักเรียน!A40 -> 32
A40: =ข้อมูลพื้นฐานนักเรียน!A41 -> 33
A41: =ข้อมูลพื้นฐานนักเรียน!A42 -> 34
A42: =ข้อมูลพื้นฐานนักเรียน!A43 -> 35
A43: =ข้อมูลพื้นฐานนักเรียน!A44 -> 36
A44: =ข้อมูลพื้นฐานนักเรียน!A45 -> 37
A45: =ข้อมูลพื้นฐานนักเรียน!A46 -> 38
A46: =ข้อมูลพื้นฐานนักเรียน!A47 -> 39
A47: =ข้อมูลพื้นฐานนักเรียน!A48 -> 40
A48: =ข้อมูลพื้นฐานนักเรียน!A49 -> 41
A49: =ข้อมูลพื้นฐานนักเรียน!A50 -> 42
... A57: =ข้อมูลพื้นฐานนักเรียน!A58 -> 50
A59: หมายเหตุ | B59: ร้อยละการแปลงฟันที่ใช้ ในไฟล์นี้ = | D59: 80 | E59: (สามารถปรับได้)
